BEGIN:VCALENDAR
VERSION:2.0
PRODID:-//Meine Südstadt - ECPv6.15.17//NONSGML v1.0//EN
CALSCALE:GREGORIAN
METHOD:PUBLISH
X-WR-CALNAME:Meine Südstadt
X-ORIGINAL-URL:https://www.meinesuedstadt.de/termine
X-WR-CALDESC:Veranstaltungen für Meine Südstadt
REFRESH-INTERVAL;VALUE=DURATION:PT1H
X-Robots-Tag:noindex
X-PUBLISHED-TTL:PT1H
BEGIN:VTIMEZONE
TZID:Europe/Berlin
BEGIN:DAYLIGHT
TZOFFSETFROM:+0100
TZOFFSETTO:+0200
TZNAME:CEST
DTSTART:20250330T010000
END:DAYLIGHT
BEGIN:STANDARD
TZOFFSETFROM:+0200
TZOFFSETTO:+0100
TZNAME:CET
DTSTART:20251026T010000
END:STANDARD
BEGIN:DAYLIGHT
TZOFFSETFROM:+0100
TZOFFSETTO:+0200
TZNAME:CEST
DTSTART:20260329T010000
END:DAYLIGHT
BEGIN:STANDARD
TZOFFSETFROM:+0200
TZOFFSETTO:+0100
TZNAME:CET
DTSTART:20261025T010000
END:STANDARD
BEGIN:DAYLIGHT
TZOFFSETFROM:+0100
TZOFFSETTO:+0200
TZNAME:CEST
DTSTART:20270328T010000
END:DAYLIGHT
BEGIN:STANDARD
TZOFFSETFROM:+0200
TZOFFSETTO:+0100
TZNAME:CET
DTSTART:20271031T010000
END:STANDARD
END:VTIMEZONE
BEGIN:VEVENT
DTSTART;TZID=Europe/Berlin:20260509T150000
DTEND;TZID=Europe/Berlin:20260509T150000
DTSTAMP:20260422T040211
CREATED:20260206T230843Z
LAST-MODIFIED:20260206T230843Z
UID:80912-1778338800-1778338800@www.meinesuedstadt.de
SUMMARY:Der fabelhafte Die (8+)
DESCRIPTION:Leise knarrend rollt ein alter Zirkuswagen ins Licht. Es surrt\, schnurrt\, klimpert – bis eine Wand aufklappt und eine Gestalt preisgibt: düster\, schrill\, geheimnisvoll. Sie ist er. Er ist sie. Es ist: Der fabelhafte Die. Mittelpunkt einer Schausteller*innen-Truppe\, die umherzieht\, Geschichten sammelt und sie nun präsentiert – vom Gleichsein\, vom Anderssein. Vorhang auf für die Ente Klaus\, den Barsch namens Kim und den stärksten Mann der Welt mit einer Vorliebe für blonde Lockenperücken.\nSergej Gößner stellt in seinem Stück binäre Geschlechtsidentität auf den Kopf\, erschafft eine Welt aus Jahrmarkt und Revue – und schreibt\, wie kann es anders sein\, im Reim.\nBild: Christopher Horne
URL:https://www.meinesuedstadt.de/termine/event/der-fabelhafte-die-8/2026-05-09/
LOCATION:Comedia Theater\, Vondelstraße 4-8\, Köln\, 50677\, Deutschland
CATEGORIES:Kinder,Theater
ATTACH;FMTTYPE=image/jpeg:https://www.meinesuedstadt.de/termine/wp-content/uploads/2026/02/hotel_celentano_0000_foto_christopher_horne_260115200124.jpeg
ORGANIZER;CN="Comedia Theater":MAILTO:info@comedia-koeln.de
GEO:50.9206662;6.9553669
X-APPLE-STRUCTURED-LOCATION;VALUE=URI;X-ADDRESS=Comedia Theater Vondelstraße 4-8 Köln 50677 Deutschland;X-APPLE-RADIUS=500;X-TITLE=Vondelstraße 4-8:geo:6.9553669,50.9206662
END:VEVENT
END:VCALENDAR