BEGIN:VCALENDAR
VERSION:2.0
PRODID:-//Meine Südstadt - ECPv6.15.17//NONSGML v1.0//EN
CALSCALE:GREGORIAN
METHOD:PUBLISH
X-WR-CALNAME:Meine Südstadt
X-ORIGINAL-URL:https://www.meinesuedstadt.de/termine
X-WR-CALDESC:Veranstaltungen für Meine Südstadt
REFRESH-INTERVAL;VALUE=DURATION:PT1H
X-Robots-Tag:noindex
X-PUBLISHED-TTL:PT1H
BEGIN:VTIMEZONE
TZID:Europe/Berlin
BEGIN:DAYLIGHT
TZOFFSETFROM:+0100
TZOFFSETTO:+0200
TZNAME:CEST
DTSTART:20250330T010000
END:DAYLIGHT
BEGIN:STANDARD
TZOFFSETFROM:+0200
TZOFFSETTO:+0100
TZNAME:CET
DTSTART:20251026T010000
END:STANDARD
BEGIN:DAYLIGHT
TZOFFSETFROM:+0100
TZOFFSETTO:+0200
TZNAME:CEST
DTSTART:20260329T010000
END:DAYLIGHT
BEGIN:STANDARD
TZOFFSETFROM:+0200
TZOFFSETTO:+0100
TZNAME:CET
DTSTART:20261025T010000
END:STANDARD
BEGIN:DAYLIGHT
TZOFFSETFROM:+0100
TZOFFSETTO:+0200
TZNAME:CEST
DTSTART:20270328T010000
END:DAYLIGHT
BEGIN:STANDARD
TZOFFSETFROM:+0200
TZOFFSETTO:+0100
TZNAME:CET
DTSTART:20271031T010000
END:STANDARD
END:VTIMEZONE
BEGIN:VEVENT
DTSTART;TZID=Europe/Berlin:20260114T184500
DTEND;TZID=Europe/Berlin:20260114T184500
DTSTAMP:20260420T163808
CREATED:20260105T223652Z
LAST-MODIFIED:20260105T223652Z
UID:80018-1768416300-1768416300@www.meinesuedstadt.de
SUMMARY:Ein Einfacher Unfall
DESCRIPTION:Eghbal (Ebrahim Azizi) fährt nachts mit seiner Frau und seiner Tochter\, als er einen Hund überfährt. Der Aufprall beschädigt den Motor so stark\, dass es später zu einer Panne kommt. An einer nahe gelegenen Werkstatt begegnet er Vahid (Vahid Mobasseri)\, einem ehemaligen politischen Gefangenen. Dieser glaubt\, in dem Quietschen von Eghbals Beinprothese den Folterer zu erkennen\, der ihm im Gefängnis schwere Nierenschäden zugefügt hat. Vahid folgt Eghbal bis zu dessen Haus\, entführt ihn und plant\, ihn lebendig zu begraben. Da er seinem Peiniger damals nie ins Gesicht gesehen hat\, kommen Zweifel auf. Um Gewissheit zu erlangen\, sucht er Rat bei einem ehemaligen Mitgefangenen.
URL:https://www.meinesuedstadt.de/termine/event/ein-einfacher-unfall/2026-01-14/
LOCATION:Odeon Kino\, Severinstraße 81\, Köln\, 50678\, Deutschland
CATEGORIES:Kino
ATTACH;FMTTYPE=image/jpeg:https://www.meinesuedstadt.de/termine/wp-content/uploads/2025/12/f158c6be19b8392e0101c8c460991236.jpeg
GEO:50.9253452;6.9581313
X-APPLE-STRUCTURED-LOCATION;VALUE=URI;X-ADDRESS=Odeon Kino Severinstraße 81 Köln 50678 Deutschland;X-APPLE-RADIUS=500;X-TITLE=Severinstraße 81:geo:6.9581313,50.9253452
END:VEVENT
BEGIN:VEVENT
DTSTART;TZID=Europe/Berlin:20260113T200000
DTEND;TZID=Europe/Berlin:20260113T200000
DTSTAMP:20260420T163808
CREATED:20260105T223652Z
LAST-MODIFIED:20260105T223652Z
UID:80017-1768334400-1768334400@www.meinesuedstadt.de
SUMMARY:Ein Einfacher Unfall
DESCRIPTION:Eghbal (Ebrahim Azizi) fährt nachts mit seiner Frau und seiner Tochter\, als er einen Hund überfährt. Der Aufprall beschädigt den Motor so stark\, dass es später zu einer Panne kommt. An einer nahe gelegenen Werkstatt begegnet er Vahid (Vahid Mobasseri)\, einem ehemaligen politischen Gefangenen. Dieser glaubt\, in dem Quietschen von Eghbals Beinprothese den Folterer zu erkennen\, der ihm im Gefängnis schwere Nierenschäden zugefügt hat. Vahid folgt Eghbal bis zu dessen Haus\, entführt ihn und plant\, ihn lebendig zu begraben. Da er seinem Peiniger damals nie ins Gesicht gesehen hat\, kommen Zweifel auf. Um Gewissheit zu erlangen\, sucht er Rat bei einem ehemaligen Mitgefangenen.
URL:https://www.meinesuedstadt.de/termine/event/ein-einfacher-unfall/2026-01-13/4/
LOCATION:Odeon Kino\, Severinstraße 81\, Köln\, 50678\, Deutschland
CATEGORIES:Kino
ATTACH;FMTTYPE=image/jpeg:https://www.meinesuedstadt.de/termine/wp-content/uploads/2025/12/f158c6be19b8392e0101c8c460991236.jpeg
GEO:50.9253452;6.9581313
X-APPLE-STRUCTURED-LOCATION;VALUE=URI;X-ADDRESS=Odeon Kino Severinstraße 81 Köln 50678 Deutschland;X-APPLE-RADIUS=500;X-TITLE=Severinstraße 81:geo:6.9581313,50.9253452
END:VEVENT
BEGIN:VEVENT
DTSTART;TZID=Europe/Berlin:20260113T154500
DTEND;TZID=Europe/Berlin:20260113T154500
DTSTAMP:20260420T163808
CREATED:20260105T223652Z
LAST-MODIFIED:20260105T223652Z
UID:80016-1768319100-1768319100@www.meinesuedstadt.de
SUMMARY:Ein Einfacher Unfall
DESCRIPTION:Eghbal (Ebrahim Azizi) fährt nachts mit seiner Frau und seiner Tochter\, als er einen Hund überfährt. Der Aufprall beschädigt den Motor so stark\, dass es später zu einer Panne kommt. An einer nahe gelegenen Werkstatt begegnet er Vahid (Vahid Mobasseri)\, einem ehemaligen politischen Gefangenen. Dieser glaubt\, in dem Quietschen von Eghbals Beinprothese den Folterer zu erkennen\, der ihm im Gefängnis schwere Nierenschäden zugefügt hat. Vahid folgt Eghbal bis zu dessen Haus\, entführt ihn und plant\, ihn lebendig zu begraben. Da er seinem Peiniger damals nie ins Gesicht gesehen hat\, kommen Zweifel auf. Um Gewissheit zu erlangen\, sucht er Rat bei einem ehemaligen Mitgefangenen.
URL:https://www.meinesuedstadt.de/termine/event/ein-einfacher-unfall/2026-01-13/
LOCATION:Odeon Kino\, Severinstraße 81\, Köln\, 50678\, Deutschland
CATEGORIES:Kino
ATTACH;FMTTYPE=image/jpeg:https://www.meinesuedstadt.de/termine/wp-content/uploads/2025/12/f158c6be19b8392e0101c8c460991236.jpeg
GEO:50.9253452;6.9581313
X-APPLE-STRUCTURED-LOCATION;VALUE=URI;X-ADDRESS=Odeon Kino Severinstraße 81 Köln 50678 Deutschland;X-APPLE-RADIUS=500;X-TITLE=Severinstraße 81:geo:6.9581313,50.9253452
END:VEVENT
BEGIN:VEVENT
DTSTART;TZID=Europe/Berlin:20260112T200000
DTEND;TZID=Europe/Berlin:20260112T200000
DTSTAMP:20260420T163808
CREATED:20260105T223652Z
LAST-MODIFIED:20260105T223652Z
UID:80015-1768248000-1768248000@www.meinesuedstadt.de
SUMMARY:Ein Einfacher Unfall
DESCRIPTION:Eghbal (Ebrahim Azizi) fährt nachts mit seiner Frau und seiner Tochter\, als er einen Hund überfährt. Der Aufprall beschädigt den Motor so stark\, dass es später zu einer Panne kommt. An einer nahe gelegenen Werkstatt begegnet er Vahid (Vahid Mobasseri)\, einem ehemaligen politischen Gefangenen. Dieser glaubt\, in dem Quietschen von Eghbals Beinprothese den Folterer zu erkennen\, der ihm im Gefängnis schwere Nierenschäden zugefügt hat. Vahid folgt Eghbal bis zu dessen Haus\, entführt ihn und plant\, ihn lebendig zu begraben. Da er seinem Peiniger damals nie ins Gesicht gesehen hat\, kommen Zweifel auf. Um Gewissheit zu erlangen\, sucht er Rat bei einem ehemaligen Mitgefangenen.
URL:https://www.meinesuedstadt.de/termine/event/ein-einfacher-unfall/2026-01-12/3/
LOCATION:Odeon Kino\, Severinstraße 81\, Köln\, 50678\, Deutschland
CATEGORIES:Kino
ATTACH;FMTTYPE=image/jpeg:https://www.meinesuedstadt.de/termine/wp-content/uploads/2025/12/f158c6be19b8392e0101c8c460991236.jpeg
GEO:50.9253452;6.9581313
X-APPLE-STRUCTURED-LOCATION;VALUE=URI;X-ADDRESS=Odeon Kino Severinstraße 81 Köln 50678 Deutschland;X-APPLE-RADIUS=500;X-TITLE=Severinstraße 81:geo:6.9581313,50.9253452
END:VEVENT
BEGIN:VEVENT
DTSTART;TZID=Europe/Berlin:20260112T154500
DTEND;TZID=Europe/Berlin:20260112T153000
DTSTAMP:20260420T163808
CREATED:20260105T223652Z
LAST-MODIFIED:20260105T223652Z
UID:80014-1768232700-1768231800@www.meinesuedstadt.de
SUMMARY:Ein Einfacher Unfall
DESCRIPTION:Eghbal (Ebrahim Azizi) fährt nachts mit seiner Frau und seiner Tochter\, als er einen Hund überfährt. Der Aufprall beschädigt den Motor so stark\, dass es später zu einer Panne kommt. An einer nahe gelegenen Werkstatt begegnet er Vahid (Vahid Mobasseri)\, einem ehemaligen politischen Gefangenen. Dieser glaubt\, in dem Quietschen von Eghbals Beinprothese den Folterer zu erkennen\, der ihm im Gefängnis schwere Nierenschäden zugefügt hat. Vahid folgt Eghbal bis zu dessen Haus\, entführt ihn und plant\, ihn lebendig zu begraben. Da er seinem Peiniger damals nie ins Gesicht gesehen hat\, kommen Zweifel auf. Um Gewissheit zu erlangen\, sucht er Rat bei einem ehemaligen Mitgefangenen.
URL:https://www.meinesuedstadt.de/termine/event/ein-einfacher-unfall/2026-01-12/
LOCATION:Odeon Kino\, Severinstraße 81\, Köln\, 50678\, Deutschland
CATEGORIES:Kino
ATTACH;FMTTYPE=image/jpeg:https://www.meinesuedstadt.de/termine/wp-content/uploads/2025/12/f158c6be19b8392e0101c8c460991236.jpeg
GEO:50.9253452;6.9581313
X-APPLE-STRUCTURED-LOCATION;VALUE=URI;X-ADDRESS=Odeon Kino Severinstraße 81 Köln 50678 Deutschland;X-APPLE-RADIUS=500;X-TITLE=Severinstraße 81:geo:6.9581313,50.9253452
END:VEVENT
BEGIN:VEVENT
DTSTART;TZID=Europe/Berlin:20260111T200000
DTEND;TZID=Europe/Berlin:20260111T200000
DTSTAMP:20260420T163808
CREATED:20260105T223652Z
LAST-MODIFIED:20260105T223652Z
UID:80013-1768161600-1768161600@www.meinesuedstadt.de
SUMMARY:Ein Einfacher Unfall
DESCRIPTION:Eghbal (Ebrahim Azizi) fährt nachts mit seiner Frau und seiner Tochter\, als er einen Hund überfährt. Der Aufprall beschädigt den Motor so stark\, dass es später zu einer Panne kommt. An einer nahe gelegenen Werkstatt begegnet er Vahid (Vahid Mobasseri)\, einem ehemaligen politischen Gefangenen. Dieser glaubt\, in dem Quietschen von Eghbals Beinprothese den Folterer zu erkennen\, der ihm im Gefängnis schwere Nierenschäden zugefügt hat. Vahid folgt Eghbal bis zu dessen Haus\, entführt ihn und plant\, ihn lebendig zu begraben. Da er seinem Peiniger damals nie ins Gesicht gesehen hat\, kommen Zweifel auf. Um Gewissheit zu erlangen\, sucht er Rat bei einem ehemaligen Mitgefangenen.
URL:https://www.meinesuedstadt.de/termine/event/ein-einfacher-unfall/2026-01-11/2/
LOCATION:Odeon Kino\, Severinstraße 81\, Köln\, 50678\, Deutschland
CATEGORIES:Kino
ATTACH;FMTTYPE=image/jpeg:https://www.meinesuedstadt.de/termine/wp-content/uploads/2025/12/f158c6be19b8392e0101c8c460991236.jpeg
GEO:50.9253452;6.9581313
X-APPLE-STRUCTURED-LOCATION;VALUE=URI;X-ADDRESS=Odeon Kino Severinstraße 81 Köln 50678 Deutschland;X-APPLE-RADIUS=500;X-TITLE=Severinstraße 81:geo:6.9581313,50.9253452
END:VEVENT
BEGIN:VEVENT
DTSTART;TZID=Europe/Berlin:20260111T183000
DTEND;TZID=Europe/Berlin:20260111T183000
DTSTAMP:20260420T163808
CREATED:20260105T223652Z
LAST-MODIFIED:20260105T223652Z
UID:80012-1768156200-1768156200@www.meinesuedstadt.de
SUMMARY:Ein Einfacher Unfall
DESCRIPTION:Eghbal (Ebrahim Azizi) fährt nachts mit seiner Frau und seiner Tochter\, als er einen Hund überfährt. Der Aufprall beschädigt den Motor so stark\, dass es später zu einer Panne kommt. An einer nahe gelegenen Werkstatt begegnet er Vahid (Vahid Mobasseri)\, einem ehemaligen politischen Gefangenen. Dieser glaubt\, in dem Quietschen von Eghbals Beinprothese den Folterer zu erkennen\, der ihm im Gefängnis schwere Nierenschäden zugefügt hat. Vahid folgt Eghbal bis zu dessen Haus\, entführt ihn und plant\, ihn lebendig zu begraben. Da er seinem Peiniger damals nie ins Gesicht gesehen hat\, kommen Zweifel auf. Um Gewissheit zu erlangen\, sucht er Rat bei einem ehemaligen Mitgefangenen.
URL:https://www.meinesuedstadt.de/termine/event/ein-einfacher-unfall/2026-01-11/
LOCATION:Odeon Kino\, Severinstraße 81\, Köln\, 50678\, Deutschland
CATEGORIES:Kino
ATTACH;FMTTYPE=image/jpeg:https://www.meinesuedstadt.de/termine/wp-content/uploads/2025/12/f158c6be19b8392e0101c8c460991236.jpeg
GEO:50.9253452;6.9581313
X-APPLE-STRUCTURED-LOCATION;VALUE=URI;X-ADDRESS=Odeon Kino Severinstraße 81 Köln 50678 Deutschland;X-APPLE-RADIUS=500;X-TITLE=Severinstraße 81:geo:6.9581313,50.9253452
END:VEVENT
BEGIN:VEVENT
DTSTART;TZID=Europe/Berlin:20260110T200000
DTEND;TZID=Europe/Berlin:20260110T200000
DTSTAMP:20260420T163808
CREATED:20260105T223652Z
LAST-MODIFIED:20260105T223652Z
UID:80011-1768075200-1768075200@www.meinesuedstadt.de
SUMMARY:Ein Einfacher Unfall
DESCRIPTION:Eghbal (Ebrahim Azizi) fährt nachts mit seiner Frau und seiner Tochter\, als er einen Hund überfährt. Der Aufprall beschädigt den Motor so stark\, dass es später zu einer Panne kommt. An einer nahe gelegenen Werkstatt begegnet er Vahid (Vahid Mobasseri)\, einem ehemaligen politischen Gefangenen. Dieser glaubt\, in dem Quietschen von Eghbals Beinprothese den Folterer zu erkennen\, der ihm im Gefängnis schwere Nierenschäden zugefügt hat. Vahid folgt Eghbal bis zu dessen Haus\, entführt ihn und plant\, ihn lebendig zu begraben. Da er seinem Peiniger damals nie ins Gesicht gesehen hat\, kommen Zweifel auf. Um Gewissheit zu erlangen\, sucht er Rat bei einem ehemaligen Mitgefangenen.
URL:https://www.meinesuedstadt.de/termine/event/ein-einfacher-unfall/2026-01-10/
LOCATION:Odeon Kino\, Severinstraße 81\, Köln\, 50678\, Deutschland
CATEGORIES:Kino
ATTACH;FMTTYPE=image/jpeg:https://www.meinesuedstadt.de/termine/wp-content/uploads/2025/12/f158c6be19b8392e0101c8c460991236.jpeg
GEO:50.9253452;6.9581313
X-APPLE-STRUCTURED-LOCATION;VALUE=URI;X-ADDRESS=Odeon Kino Severinstraße 81 Köln 50678 Deutschland;X-APPLE-RADIUS=500;X-TITLE=Severinstraße 81:geo:6.9581313,50.9253452
END:VEVENT
BEGIN:VEVENT
DTSTART;TZID=Europe/Berlin:20260109T200000
DTEND;TZID=Europe/Berlin:20260109T200000
DTSTAMP:20260420T163808
CREATED:20260105T223652Z
LAST-MODIFIED:20260105T223652Z
UID:80010-1767988800-1767988800@www.meinesuedstadt.de
SUMMARY:Ein Einfacher Unfall
DESCRIPTION:Eghbal (Ebrahim Azizi) fährt nachts mit seiner Frau und seiner Tochter\, als er einen Hund überfährt. Der Aufprall beschädigt den Motor so stark\, dass es später zu einer Panne kommt. An einer nahe gelegenen Werkstatt begegnet er Vahid (Vahid Mobasseri)\, einem ehemaligen politischen Gefangenen. Dieser glaubt\, in dem Quietschen von Eghbals Beinprothese den Folterer zu erkennen\, der ihm im Gefängnis schwere Nierenschäden zugefügt hat. Vahid folgt Eghbal bis zu dessen Haus\, entführt ihn und plant\, ihn lebendig zu begraben. Da er seinem Peiniger damals nie ins Gesicht gesehen hat\, kommen Zweifel auf. Um Gewissheit zu erlangen\, sucht er Rat bei einem ehemaligen Mitgefangenen.
URL:https://www.meinesuedstadt.de/termine/event/ein-einfacher-unfall/2026-01-09/
LOCATION:Odeon Kino\, Severinstraße 81\, Köln\, 50678\, Deutschland
CATEGORIES:Kino
ATTACH;FMTTYPE=image/jpeg:https://www.meinesuedstadt.de/termine/wp-content/uploads/2025/12/f158c6be19b8392e0101c8c460991236.jpeg
GEO:50.9253452;6.9581313
X-APPLE-STRUCTURED-LOCATION;VALUE=URI;X-ADDRESS=Odeon Kino Severinstraße 81 Köln 50678 Deutschland;X-APPLE-RADIUS=500;X-TITLE=Severinstraße 81:geo:6.9581313,50.9253452
END:VEVENT
BEGIN:VEVENT
DTSTART;TZID=Europe/Berlin:20260108T200000
DTEND;TZID=Europe/Berlin:20260108T200000
DTSTAMP:20260420T163808
CREATED:20260105T223652Z
LAST-MODIFIED:20260105T223652Z
UID:79401-1767902400-1767902400@www.meinesuedstadt.de
SUMMARY:Ein Einfacher Unfall
DESCRIPTION:Eghbal (Ebrahim Azizi) fährt nachts mit seiner Frau und seiner Tochter\, als er einen Hund überfährt. Der Aufprall beschädigt den Motor so stark\, dass es später zu einer Panne kommt. An einer nahe gelegenen Werkstatt begegnet er Vahid (Vahid Mobasseri)\, einem ehemaligen politischen Gefangenen. Dieser glaubt\, in dem Quietschen von Eghbals Beinprothese den Folterer zu erkennen\, der ihm im Gefängnis schwere Nierenschäden zugefügt hat. Vahid folgt Eghbal bis zu dessen Haus\, entführt ihn und plant\, ihn lebendig zu begraben. Da er seinem Peiniger damals nie ins Gesicht gesehen hat\, kommen Zweifel auf. Um Gewissheit zu erlangen\, sucht er Rat bei einem ehemaligen Mitgefangenen.
URL:https://www.meinesuedstadt.de/termine/event/ein-einfacher-unfall/2026-01-08/
LOCATION:Odeon Kino\, Severinstraße 81\, Köln\, 50678\, Deutschland
CATEGORIES:Kino
ATTACH;FMTTYPE=image/jpeg:https://www.meinesuedstadt.de/termine/wp-content/uploads/2025/12/f158c6be19b8392e0101c8c460991236.jpeg
GEO:50.9253452;6.9581313
X-APPLE-STRUCTURED-LOCATION;VALUE=URI;X-ADDRESS=Odeon Kino Severinstraße 81 Köln 50678 Deutschland;X-APPLE-RADIUS=500;X-TITLE=Severinstraße 81:geo:6.9581313,50.9253452
END:VEVENT
END:VCALENDAR