BEGIN:VCALENDAR
VERSION:2.0
PRODID:-//Meine Südstadt - ECPv6.15.17//NONSGML v1.0//EN
CALSCALE:GREGORIAN
METHOD:PUBLISH
X-WR-CALNAME:Meine Südstadt
X-ORIGINAL-URL:https://www.meinesuedstadt.de/termine
X-WR-CALDESC:Veranstaltungen für Meine Südstadt
REFRESH-INTERVAL;VALUE=DURATION:PT1H
X-Robots-Tag:noindex
X-PUBLISHED-TTL:PT1H
BEGIN:VTIMEZONE
TZID:Europe/Berlin
BEGIN:DAYLIGHT
TZOFFSETFROM:+0100
TZOFFSETTO:+0200
TZNAME:CEST
DTSTART:20250330T010000
END:DAYLIGHT
BEGIN:STANDARD
TZOFFSETFROM:+0200
TZOFFSETTO:+0100
TZNAME:CET
DTSTART:20251026T010000
END:STANDARD
BEGIN:DAYLIGHT
TZOFFSETFROM:+0100
TZOFFSETTO:+0200
TZNAME:CEST
DTSTART:20260329T010000
END:DAYLIGHT
BEGIN:STANDARD
TZOFFSETFROM:+0200
TZOFFSETTO:+0100
TZNAME:CET
DTSTART:20261025T010000
END:STANDARD
BEGIN:DAYLIGHT
TZOFFSETFROM:+0100
TZOFFSETTO:+0200
TZNAME:CEST
DTSTART:20270328T010000
END:DAYLIGHT
BEGIN:STANDARD
TZOFFSETFROM:+0200
TZOFFSETTO:+0100
TZNAME:CET
DTSTART:20271031T010000
END:STANDARD
END:VTIMEZONE
BEGIN:VEVENT
DTSTART;TZID=Europe/Berlin:20260423T190000
DTEND;TZID=Europe/Berlin:20260423T190000
DTSTAMP:20260420T152723
CREATED:20260415T114914Z
LAST-MODIFIED:20260415T114942Z
UID:82564-1776970800-1776970800@www.meinesuedstadt.de
SUMMARY:ORBIT Festival: Gefängnis ohne Mauern\, Schiff ohne Meer...
DESCRIPTION:Jean Genet (1910-1986) – immer wieder als Landstreicher\, Außenseiter\, Homosexueller\, Dieb\, Rebell gelabelt\, ist einer der bekanntesten und vermutlich umstrittensten Schriftsteller Frankreichs. Inhaftiert beginnt Genet aus der Gefängniszelle heraus zu schreiben und wird zu einer Ikone der französischen Literatur. Sein literarisches Denken und Schreiben kreist dabei immer wieder um jene Zeit\, die er als Jugendlicher in der berüchtigten Strafkolonie Mettray – einem ‚Gefängnis ohne Mauern‘ – verbrachte.\nIn acht ‚tableaux morts‘ werden Motive Genets Schreibens wie eine Landschaft erkundet: die beklemmenden Schatten Mettrays\, das ständige Spiel mit Realität und Imagination\, die feine Grenze zwischen Zärtlichkeit und Gewalt und das seltsame Verhältnis einer überbordenden Sprache und einer tiefen Leere.\nBild: Philipp C. Mayer
URL:https://www.meinesuedstadt.de/termine/event/gefaengnis-ohne-mauern-schiff-ohne-meer/2026-04-23/
LOCATION:Comedia Theater\, Vondelstraße 4-8\, Köln\, NRW\, 50677\, Deutschland
CATEGORIES:Theater
ATTACH;FMTTYPE=image/png:https://www.meinesuedstadt.de/termine/wp-content/uploads/2026/04/KS2bTpZuRWe9ha9xxeCb_bild-1-1800-x-1200-kalter.png
ORGANIZER;CN="Comedia Theater":MAILTO:info@comedia-koeln.de
GEO:50.9206662;6.9553669
X-APPLE-STRUCTURED-LOCATION;VALUE=URI;X-ADDRESS=Comedia Theater Vondelstraße 4-8 Köln NRW 50677 Deutschland;X-APPLE-RADIUS=500;X-TITLE=Vondelstraße 4-8:geo:6.9553669,50.9206662
END:VEVENT
BEGIN:VEVENT
DTSTART;TZID=Europe/Berlin:20260424T170000
DTEND;TZID=Europe/Berlin:20260424T170000
DTSTAMP:20260420T152723
CREATED:20260415T114914Z
LAST-MODIFIED:20260415T114942Z
UID:82566-1777050000-1777050000@www.meinesuedstadt.de
SUMMARY:ORBIT Festival: Gefängnis ohne Mauern\, Schiff ohne Meer...
DESCRIPTION:Jean Genet (1910-1986) – immer wieder als Landstreicher\, Außenseiter\, Homosexueller\, Dieb\, Rebell gelabelt\, ist einer der bekanntesten und vermutlich umstrittensten Schriftsteller Frankreichs. Inhaftiert beginnt Genet aus der Gefängniszelle heraus zu schreiben und wird zu einer Ikone der französischen Literatur. Sein literarisches Denken und Schreiben kreist dabei immer wieder um jene Zeit\, die er als Jugendlicher in der berüchtigten Strafkolonie Mettray – einem ‚Gefängnis ohne Mauern‘ – verbrachte.\nIn acht ‚tableaux morts‘ werden Motive Genets Schreibens wie eine Landschaft erkundet: die beklemmenden Schatten Mettrays\, das ständige Spiel mit Realität und Imagination\, die feine Grenze zwischen Zärtlichkeit und Gewalt und das seltsame Verhältnis einer überbordenden Sprache und einer tiefen Leere.\nBild: Philipp C. Mayer
URL:https://www.meinesuedstadt.de/termine/event/gefaengnis-ohne-mauern-schiff-ohne-meer/2026-04-24/
LOCATION:Comedia Theater\, Vondelstraße 4-8\, Köln\, NRW\, 50677\, Deutschland
CATEGORIES:Theater
ATTACH;FMTTYPE=image/png:https://www.meinesuedstadt.de/termine/wp-content/uploads/2026/04/KS2bTpZuRWe9ha9xxeCb_bild-1-1800-x-1200-kalter.png
ORGANIZER;CN="Comedia Theater":MAILTO:info@comedia-koeln.de
GEO:50.9206662;6.9553669
X-APPLE-STRUCTURED-LOCATION;VALUE=URI;X-ADDRESS=Comedia Theater Vondelstraße 4-8 Köln NRW 50677 Deutschland;X-APPLE-RADIUS=500;X-TITLE=Vondelstraße 4-8:geo:6.9553669,50.9206662
END:VEVENT
END:VCALENDAR