BEGIN:VCALENDAR
VERSION:2.0
PRODID:-//Meine Südstadt - ECPv6.15.20//NONSGML v1.0//EN
CALSCALE:GREGORIAN
METHOD:PUBLISH
X-WR-CALNAME:Meine Südstadt
X-ORIGINAL-URL:https://www.meinesuedstadt.de/termine
X-WR-CALDESC:Veranstaltungen für Meine Südstadt
REFRESH-INTERVAL;VALUE=DURATION:PT1H
X-Robots-Tag:noindex
X-PUBLISHED-TTL:PT1H
BEGIN:VTIMEZONE
TZID:Europe/Berlin
BEGIN:DAYLIGHT
TZOFFSETFROM:+0100
TZOFFSETTO:+0200
TZNAME:CEST
DTSTART:20250330T010000
END:DAYLIGHT
BEGIN:STANDARD
TZOFFSETFROM:+0200
TZOFFSETTO:+0100
TZNAME:CET
DTSTART:20251026T010000
END:STANDARD
BEGIN:DAYLIGHT
TZOFFSETFROM:+0100
TZOFFSETTO:+0200
TZNAME:CEST
DTSTART:20260329T010000
END:DAYLIGHT
BEGIN:STANDARD
TZOFFSETFROM:+0200
TZOFFSETTO:+0100
TZNAME:CET
DTSTART:20261025T010000
END:STANDARD
BEGIN:DAYLIGHT
TZOFFSETFROM:+0100
TZOFFSETTO:+0200
TZNAME:CEST
DTSTART:20270328T010000
END:DAYLIGHT
BEGIN:STANDARD
TZOFFSETFROM:+0200
TZOFFSETTO:+0100
TZNAME:CET
DTSTART:20271031T010000
END:STANDARD
END:VTIMEZONE
BEGIN:VEVENT
DTSTART;TZID=Europe/Berlin:20260114T140000
DTEND;TZID=Europe/Berlin:20260114T140000
DTSTAMP:20260422T140428
CREATED:20260105T224253Z
LAST-MODIFIED:20260105T224253Z
UID:80032-1768399200-1768399200@www.meinesuedstadt.de
SUMMARY:Jetzt. Wohin. - Meine Reise mit Robert Habeck
DESCRIPTION:JETZT. WOHIN. Meine Reise mit Robert Habeck ist ein sehr persönlicher Dokumentarfilm von Lars Jessen. Der Film blickt hinter die Kulissen des Wahlkampfs 2025 von Robert Habeck – einer Kampagne\, die mit großen Erwartungen beginnt und mit deutlichen Einbußen für die GRÜNEN endet. Danach zieht sich Habeck aus der Politik zurück. Kaum ein deutscher Politiker hat in den letzten Jahren mehr Emotionen ausgelöst: Für die einen ist er Hoffnungsträger\, für die anderen Projektionsfläche all dessen\, was sie an der Gegenwart ablehnen. Lars Jessen – Filmemacher\, Freund\, Berater und langjähriger Weggefährte – sucht Antworten: Warum ist es so gekommen? Was ist schiefgelaufen und wie kann progressive Politik in Zeiten von Populismus wieder gelingen?
URL:https://www.meinesuedstadt.de/termine/event/jetzt-wohin-meine-reise-mit-robert-habeck/2026-01-14/
LOCATION:Odeon Kino\, Severinstraße 81\, Köln\, 50678\, Deutschland
CATEGORIES:Kino
ATTACH;FMTTYPE=image/jpeg:https://www.meinesuedstadt.de/termine/wp-content/uploads/2026/01/9dc3d5b87d4eeb9437d4f966629b12c6.jpeg
GEO:50.9253452;6.9581313
X-APPLE-STRUCTURED-LOCATION;VALUE=URI;X-ADDRESS=Odeon Kino Severinstraße 81 Köln 50678 Deutschland;X-APPLE-RADIUS=500;X-TITLE=Severinstraße 81:geo:6.9581313,50.9253452
END:VEVENT
BEGIN:VEVENT
DTSTART;TZID=Europe/Berlin:20260111T110000
DTEND;TZID=Europe/Berlin:20260111T110000
DTSTAMP:20260422T140428
CREATED:20260105T224253Z
LAST-MODIFIED:20260105T224253Z
UID:80031-1768129200-1768129200@www.meinesuedstadt.de
SUMMARY:Jetzt. Wohin. - Meine Reise mit Robert Habeck
DESCRIPTION:JETZT. WOHIN. Meine Reise mit Robert Habeck ist ein sehr persönlicher Dokumentarfilm von Lars Jessen. Der Film blickt hinter die Kulissen des Wahlkampfs 2025 von Robert Habeck – einer Kampagne\, die mit großen Erwartungen beginnt und mit deutlichen Einbußen für die GRÜNEN endet. Danach zieht sich Habeck aus der Politik zurück. Kaum ein deutscher Politiker hat in den letzten Jahren mehr Emotionen ausgelöst: Für die einen ist er Hoffnungsträger\, für die anderen Projektionsfläche all dessen\, was sie an der Gegenwart ablehnen. Lars Jessen – Filmemacher\, Freund\, Berater und langjähriger Weggefährte – sucht Antworten: Warum ist es so gekommen? Was ist schiefgelaufen und wie kann progressive Politik in Zeiten von Populismus wieder gelingen?
URL:https://www.meinesuedstadt.de/termine/event/jetzt-wohin-meine-reise-mit-robert-habeck/2026-01-11/
LOCATION:Odeon Kino\, Severinstraße 81\, Köln\, 50678\, Deutschland
CATEGORIES:Kino
ATTACH;FMTTYPE=image/jpeg:https://www.meinesuedstadt.de/termine/wp-content/uploads/2026/01/9dc3d5b87d4eeb9437d4f966629b12c6.jpeg
GEO:50.9253452;6.9581313
X-APPLE-STRUCTURED-LOCATION;VALUE=URI;X-ADDRESS=Odeon Kino Severinstraße 81 Köln 50678 Deutschland;X-APPLE-RADIUS=500;X-TITLE=Severinstraße 81:geo:6.9581313,50.9253452
END:VEVENT
BEGIN:VEVENT
DTSTART;TZID=Europe/Berlin:20260107T134500
DTEND;TZID=Europe/Berlin:20260107T134500
DTSTAMP:20260422T140428
CREATED:20260105T224253Z
LAST-MODIFIED:20260105T224253Z
UID:80029-1767793500-1767793500@www.meinesuedstadt.de
SUMMARY:Jetzt. Wohin. - Meine Reise mit Robert Habeck
DESCRIPTION:JETZT. WOHIN. Meine Reise mit Robert Habeck ist ein sehr persönlicher Dokumentarfilm von Lars Jessen. Der Film blickt hinter die Kulissen des Wahlkampfs 2025 von Robert Habeck – einer Kampagne\, die mit großen Erwartungen beginnt und mit deutlichen Einbußen für die GRÜNEN endet. Danach zieht sich Habeck aus der Politik zurück. Kaum ein deutscher Politiker hat in den letzten Jahren mehr Emotionen ausgelöst: Für die einen ist er Hoffnungsträger\, für die anderen Projektionsfläche all dessen\, was sie an der Gegenwart ablehnen. Lars Jessen – Filmemacher\, Freund\, Berater und langjähriger Weggefährte – sucht Antworten: Warum ist es so gekommen? Was ist schiefgelaufen und wie kann progressive Politik in Zeiten von Populismus wieder gelingen?
URL:https://www.meinesuedstadt.de/termine/event/jetzt-wohin-meine-reise-mit-robert-habeck/2026-01-07/
LOCATION:Odeon Kino\, Severinstraße 81\, Köln\, 50678\, Deutschland
CATEGORIES:Kino
ATTACH;FMTTYPE=image/jpeg:https://www.meinesuedstadt.de/termine/wp-content/uploads/2026/01/9dc3d5b87d4eeb9437d4f966629b12c6.jpeg
GEO:50.9253452;6.9581313
X-APPLE-STRUCTURED-LOCATION;VALUE=URI;X-ADDRESS=Odeon Kino Severinstraße 81 Köln 50678 Deutschland;X-APPLE-RADIUS=500;X-TITLE=Severinstraße 81:geo:6.9581313,50.9253452
END:VEVENT
END:VCALENDAR