BEGIN:VCALENDAR
VERSION:2.0
PRODID:-//Meine Südstadt - ECPv6.15.17//NONSGML v1.0//EN
CALSCALE:GREGORIAN
METHOD:PUBLISH
X-ORIGINAL-URL:https://www.meinesuedstadt.de/termine
X-WR-CALDESC:Veranstaltungen für Meine Südstadt
REFRESH-INTERVAL;VALUE=DURATION:PT1H
X-Robots-Tag:noindex
X-PUBLISHED-TTL:PT1H
BEGIN:VTIMEZONE
TZID:Europe/Berlin
BEGIN:DAYLIGHT
TZOFFSETFROM:+0100
TZOFFSETTO:+0200
TZNAME:CEST
DTSTART:20250330T010000
END:DAYLIGHT
BEGIN:STANDARD
TZOFFSETFROM:+0200
TZOFFSETTO:+0100
TZNAME:CET
DTSTART:20251026T010000
END:STANDARD
BEGIN:DAYLIGHT
TZOFFSETFROM:+0100
TZOFFSETTO:+0200
TZNAME:CEST
DTSTART:20260329T010000
END:DAYLIGHT
BEGIN:STANDARD
TZOFFSETFROM:+0200
TZOFFSETTO:+0100
TZNAME:CET
DTSTART:20261025T010000
END:STANDARD
BEGIN:DAYLIGHT
TZOFFSETFROM:+0100
TZOFFSETTO:+0200
TZNAME:CEST
DTSTART:20270328T010000
END:DAYLIGHT
BEGIN:STANDARD
TZOFFSETFROM:+0200
TZOFFSETTO:+0100
TZNAME:CET
DTSTART:20271031T010000
END:STANDARD
END:VTIMEZONE
BEGIN:VEVENT
DTSTART;TZID=Europe/Berlin:20260508T193000
DTEND;TZID=Europe/Berlin:20260508T193000
DTSTAMP:20260422T041620
CREATED:20260416T222942Z
LAST-MODIFIED:20260416T222942Z
UID:82635-1778268600-1778268600@www.meinesuedstadt.de
SUMMARY:nö theater: Geschichten aus der 2. Klasse
DESCRIPTION:Woran denken Sie\, wenn Sie an die Bahn denken? An überfüllte Regionalzüge\, massiv verspätete ICEs und völlig überzogene Manager:innengehälter? Oder an Ihren geliebten PKW? Vom konkreten Zustand der einzelnen Züge wollen wir gar nicht erst anfangen. Oder doch? Das nö theater begibt sich auf eine gleißende Entdeckungsreise quer durch die Republik und findet Antworten auf Fragen\, die Sie eventuell nie stellen wollten. Denn was da anscheinend an Missmanagement\, Korruption\, Missachtung des Datenschutzes und Menschenverachtung praktiziert wurde und wird\, ist in seiner schieren Perfidie kaum auszuhalten. Wie sieht es aus mit der eigentlich durch die Bahn garantierten günstigen und zuverlässigen Mobilität? Ist Law and Order wirklich die Lösung für die steigende Gewalt im Regionalverkehr? Ist Bahnchef kein deutscher Vorname mehr? Dies und ach noch so vieles mehr fragen wir uns und wollen es zumindest im Ansatz verstehen\, bevor wir das nächste Mal einen Zug besteigen.\nBild: nö theater
URL:https://www.meinesuedstadt.de/termine/event/noe-theater-geschichten-aus-der-2-klasse/2026-05-08/
LOCATION:Comedia Theater\, Vondelstraße 4-8\, Köln\, NRW\, 50677\, Deutschland
CATEGORIES:Theater
ATTACH;FMTTYPE=image/jpeg:https://www.meinesuedstadt.de/termine/wp-content/uploads/2026/04/noe_theater_1_.jpeg
ORGANIZER;CN="Comedia Theater":MAILTO:info@comedia-koeln.de
GEO:50.9206662;6.9553669
X-APPLE-STRUCTURED-LOCATION;VALUE=URI;X-ADDRESS=Comedia Theater Vondelstraße 4-8 Köln NRW 50677 Deutschland;X-APPLE-RADIUS=500;X-TITLE=Vondelstraße 4-8:geo:6.9553669,50.9206662
END:VEVENT
BEGIN:VEVENT
DTSTART;TZID=Europe/Berlin:20260509T193000
DTEND;TZID=Europe/Berlin:20260509T193000
DTSTAMP:20260422T041620
CREATED:20260416T222942Z
LAST-MODIFIED:20260416T222942Z
UID:82636-1778355000-1778355000@www.meinesuedstadt.de
SUMMARY:nö theater: Geschichten aus der 2. Klasse
DESCRIPTION:Woran denken Sie\, wenn Sie an die Bahn denken? An überfüllte Regionalzüge\, massiv verspätete ICEs und völlig überzogene Manager:innengehälter? Oder an Ihren geliebten PKW? Vom konkreten Zustand der einzelnen Züge wollen wir gar nicht erst anfangen. Oder doch? Das nö theater begibt sich auf eine gleißende Entdeckungsreise quer durch die Republik und findet Antworten auf Fragen\, die Sie eventuell nie stellen wollten. Denn was da anscheinend an Missmanagement\, Korruption\, Missachtung des Datenschutzes und Menschenverachtung praktiziert wurde und wird\, ist in seiner schieren Perfidie kaum auszuhalten. Wie sieht es aus mit der eigentlich durch die Bahn garantierten günstigen und zuverlässigen Mobilität? Ist Law and Order wirklich die Lösung für die steigende Gewalt im Regionalverkehr? Ist Bahnchef kein deutscher Vorname mehr? Dies und ach noch so vieles mehr fragen wir uns und wollen es zumindest im Ansatz verstehen\, bevor wir das nächste Mal einen Zug besteigen.\nBild: nö theater
URL:https://www.meinesuedstadt.de/termine/event/noe-theater-geschichten-aus-der-2-klasse/2026-05-09/
LOCATION:Comedia Theater\, Vondelstraße 4-8\, Köln\, NRW\, 50677\, Deutschland
CATEGORIES:Theater
ATTACH;FMTTYPE=image/jpeg:https://www.meinesuedstadt.de/termine/wp-content/uploads/2026/04/noe_theater_1_.jpeg
ORGANIZER;CN="Comedia Theater":MAILTO:info@comedia-koeln.de
GEO:50.9206662;6.9553669
X-APPLE-STRUCTURED-LOCATION;VALUE=URI;X-ADDRESS=Comedia Theater Vondelstraße 4-8 Köln NRW 50677 Deutschland;X-APPLE-RADIUS=500;X-TITLE=Vondelstraße 4-8:geo:6.9553669,50.9206662
END:VEVENT
BEGIN:VEVENT
DTSTART;TZID=Europe/Berlin:20260510T183000
DTEND;TZID=Europe/Berlin:20260510T183000
DTSTAMP:20260422T041620
CREATED:20260416T222942Z
LAST-MODIFIED:20260416T222942Z
UID:82637-1778437800-1778437800@www.meinesuedstadt.de
SUMMARY:nö theater: Geschichten aus der 2. Klasse
DESCRIPTION:Woran denken Sie\, wenn Sie an die Bahn denken? An überfüllte Regionalzüge\, massiv verspätete ICEs und völlig überzogene Manager:innengehälter? Oder an Ihren geliebten PKW? Vom konkreten Zustand der einzelnen Züge wollen wir gar nicht erst anfangen. Oder doch? Das nö theater begibt sich auf eine gleißende Entdeckungsreise quer durch die Republik und findet Antworten auf Fragen\, die Sie eventuell nie stellen wollten. Denn was da anscheinend an Missmanagement\, Korruption\, Missachtung des Datenschutzes und Menschenverachtung praktiziert wurde und wird\, ist in seiner schieren Perfidie kaum auszuhalten. Wie sieht es aus mit der eigentlich durch die Bahn garantierten günstigen und zuverlässigen Mobilität? Ist Law and Order wirklich die Lösung für die steigende Gewalt im Regionalverkehr? Ist Bahnchef kein deutscher Vorname mehr? Dies und ach noch so vieles mehr fragen wir uns und wollen es zumindest im Ansatz verstehen\, bevor wir das nächste Mal einen Zug besteigen.\nBild: nö theater
URL:https://www.meinesuedstadt.de/termine/event/noe-theater-geschichten-aus-der-2-klasse/2026-05-10/
LOCATION:Comedia Theater\, Vondelstraße 4-8\, Köln\, NRW\, 50677\, Deutschland
CATEGORIES:Theater
ATTACH;FMTTYPE=image/jpeg:https://www.meinesuedstadt.de/termine/wp-content/uploads/2026/04/noe_theater_1_.jpeg
ORGANIZER;CN="Comedia Theater":MAILTO:info@comedia-koeln.de
GEO:50.9206662;6.9553669
X-APPLE-STRUCTURED-LOCATION;VALUE=URI;X-ADDRESS=Comedia Theater Vondelstraße 4-8 Köln NRW 50677 Deutschland;X-APPLE-RADIUS=500;X-TITLE=Vondelstraße 4-8:geo:6.9553669,50.9206662
END:VEVENT
END:VCALENDAR