BEGIN:VCALENDAR
VERSION:2.0
PRODID:-//Meine Südstadt - ECPv6.15.20//NONSGML v1.0//EN
CALSCALE:GREGORIAN
METHOD:PUBLISH
X-ORIGINAL-URL:https://www.meinesuedstadt.de/termine
X-WR-CALDESC:Veranstaltungen für Meine Südstadt
REFRESH-INTERVAL;VALUE=DURATION:PT1H
X-Robots-Tag:noindex
X-PUBLISHED-TTL:PT1H
BEGIN:VTIMEZONE
TZID:Europe/Berlin
BEGIN:DAYLIGHT
TZOFFSETFROM:+0100
TZOFFSETTO:+0200
TZNAME:CEST
DTSTART:20250330T010000
END:DAYLIGHT
BEGIN:STANDARD
TZOFFSETFROM:+0200
TZOFFSETTO:+0100
TZNAME:CET
DTSTART:20251026T010000
END:STANDARD
BEGIN:DAYLIGHT
TZOFFSETFROM:+0100
TZOFFSETTO:+0200
TZNAME:CEST
DTSTART:20260329T010000
END:DAYLIGHT
BEGIN:STANDARD
TZOFFSETFROM:+0200
TZOFFSETTO:+0100
TZNAME:CET
DTSTART:20261025T010000
END:STANDARD
BEGIN:DAYLIGHT
TZOFFSETFROM:+0100
TZOFFSETTO:+0200
TZNAME:CEST
DTSTART:20270328T010000
END:DAYLIGHT
BEGIN:STANDARD
TZOFFSETFROM:+0200
TZOFFSETTO:+0100
TZNAME:CET
DTSTART:20271031T010000
END:STANDARD
END:VTIMEZONE
BEGIN:VEVENT
DTSTART;TZID=Europe/Berlin:20260308T180000
DTEND;TZID=Europe/Berlin:20260308T180000
DTSTAMP:20260422T171225
CREATED:20260225T073635Z
LAST-MODIFIED:20260225T073635Z
UID:81272-1772992800-1772992800@www.meinesuedstadt.de
SUMMARY:Showdown
DESCRIPTION:Wir befinden uns im Zeitalter der Erb:innen. Jährlich werden in Deutschland rund 250 Milliarden Euro vererbt. Gleichzeitig stehen staatliche Strukturen unter Druck: Sozial- und Kulturbudgets schrumpfen. In ihrer neuen performativen Arbeit „Showdown“ erkundet subbotnik individuelle und kollektive Erb-Erfahrungen und überführt sie in eine spielerische Übung des Streits. Zwischen Show\, Theater und Verhandlungsraum übernehmen die Performer:innen als Erbverwalter:innen nicht nur Besitz – sondern auch Schulden\, Traumata\, Privilegien und offene Familienkonflikte. In neu formierten Erb:gemeinschaften wird aufgeteilt und neu gedacht: Wer bekommt was? Wer bleibt außen vor? Und was bedeutet Erben in einer Gesellschaft\, in der Eigentum stets politisch ist? Ein Bürger:innenchor verdichtet die Stimmen des Publikums – im vielstimmigen Streit öffnet sich der Blick auf die Utopie eines neuen Umgangs mit dem\, was weitergegeben wird!\nBild: Christian Knieps
URL:https://www.meinesuedstadt.de/termine/event/showdown/2026-03-08/
LOCATION:Orangerie Theater\, Volksgartenstraße 25\, Köln\, 50677\, Deutschland
CATEGORIES:Theater
ATTACH;FMTTYPE=image/jpeg:https://www.meinesuedstadt.de/termine/wp-content/uploads/2026/02/Bild-10.jpg
GEO:50.9213606;6.9494976
X-APPLE-STRUCTURED-LOCATION;VALUE=URI;X-ADDRESS=Orangerie Theater Volksgartenstraße 25 Köln 50677 Deutschland;X-APPLE-RADIUS=500;X-TITLE=Volksgartenstraße 25:geo:6.9494976,50.9213606
END:VEVENT
BEGIN:VEVENT
DTSTART;TZID=Europe/Berlin:20260307T200000
DTEND;TZID=Europe/Berlin:20260307T200000
DTSTAMP:20260422T171225
CREATED:20260225T073635Z
LAST-MODIFIED:20260225T073635Z
UID:81271-1772913600-1772913600@www.meinesuedstadt.de
SUMMARY:Showdown
DESCRIPTION:Wir befinden uns im Zeitalter der Erb:innen. Jährlich werden in Deutschland rund 250 Milliarden Euro vererbt. Gleichzeitig stehen staatliche Strukturen unter Druck: Sozial- und Kulturbudgets schrumpfen. In ihrer neuen performativen Arbeit „Showdown“ erkundet subbotnik individuelle und kollektive Erb-Erfahrungen und überführt sie in eine spielerische Übung des Streits. Zwischen Show\, Theater und Verhandlungsraum übernehmen die Performer:innen als Erbverwalter:innen nicht nur Besitz – sondern auch Schulden\, Traumata\, Privilegien und offene Familienkonflikte. In neu formierten Erb:gemeinschaften wird aufgeteilt und neu gedacht: Wer bekommt was? Wer bleibt außen vor? Und was bedeutet Erben in einer Gesellschaft\, in der Eigentum stets politisch ist? Ein Bürger:innenchor verdichtet die Stimmen des Publikums – im vielstimmigen Streit öffnet sich der Blick auf die Utopie eines neuen Umgangs mit dem\, was weitergegeben wird!\nBild: Christian Knieps
URL:https://www.meinesuedstadt.de/termine/event/showdown/2026-03-07/
LOCATION:Orangerie Theater\, Volksgartenstraße 25\, Köln\, 50677\, Deutschland
CATEGORIES:Theater
ATTACH;FMTTYPE=image/jpeg:https://www.meinesuedstadt.de/termine/wp-content/uploads/2026/02/Bild-10.jpg
GEO:50.9213606;6.9494976
X-APPLE-STRUCTURED-LOCATION;VALUE=URI;X-ADDRESS=Orangerie Theater Volksgartenstraße 25 Köln 50677 Deutschland;X-APPLE-RADIUS=500;X-TITLE=Volksgartenstraße 25:geo:6.9494976,50.9213606
END:VEVENT
BEGIN:VEVENT
DTSTART;TZID=Europe/Berlin:20260306T200000
DTEND;TZID=Europe/Berlin:20260306T200000
DTSTAMP:20260422T171225
CREATED:20260225T073634Z
LAST-MODIFIED:20260225T073634Z
UID:81270-1772827200-1772827200@www.meinesuedstadt.de
SUMMARY:Showdown
DESCRIPTION:Wir befinden uns im Zeitalter der Erb:innen. Jährlich werden in Deutschland rund 250 Milliarden Euro vererbt. Gleichzeitig stehen staatliche Strukturen unter Druck: Sozial- und Kulturbudgets schrumpfen. In ihrer neuen performativen Arbeit „Showdown“ erkundet subbotnik individuelle und kollektive Erb-Erfahrungen und überführt sie in eine spielerische Übung des Streits. Zwischen Show\, Theater und Verhandlungsraum übernehmen die Performer:innen als Erbverwalter:innen nicht nur Besitz – sondern auch Schulden\, Traumata\, Privilegien und offene Familienkonflikte. In neu formierten Erb:gemeinschaften wird aufgeteilt und neu gedacht: Wer bekommt was? Wer bleibt außen vor? Und was bedeutet Erben in einer Gesellschaft\, in der Eigentum stets politisch ist? Ein Bürger:innenchor verdichtet die Stimmen des Publikums – im vielstimmigen Streit öffnet sich der Blick auf die Utopie eines neuen Umgangs mit dem\, was weitergegeben wird!\nBild: Christian Knieps
URL:https://www.meinesuedstadt.de/termine/event/showdown/2026-03-06/
LOCATION:Orangerie Theater\, Volksgartenstraße 25\, Köln\, 50677\, Deutschland
CATEGORIES:Theater
ATTACH;FMTTYPE=image/jpeg:https://www.meinesuedstadt.de/termine/wp-content/uploads/2026/02/Bild-10.jpg
GEO:50.9213606;6.9494976
X-APPLE-STRUCTURED-LOCATION;VALUE=URI;X-ADDRESS=Orangerie Theater Volksgartenstraße 25 Köln 50677 Deutschland;X-APPLE-RADIUS=500;X-TITLE=Volksgartenstraße 25:geo:6.9494976,50.9213606
END:VEVENT
BEGIN:VEVENT
DTSTART;TZID=Europe/Berlin:20260305T200000
DTEND;TZID=Europe/Berlin:20260305T200000
DTSTAMP:20260422T171225
CREATED:20260225T073634Z
LAST-MODIFIED:20260225T073634Z
UID:81268-1772740800-1772740800@www.meinesuedstadt.de
SUMMARY:Showdown
DESCRIPTION:Wir befinden uns im Zeitalter der Erb:innen. Jährlich werden in Deutschland rund 250 Milliarden Euro vererbt. Gleichzeitig stehen staatliche Strukturen unter Druck: Sozial- und Kulturbudgets schrumpfen. In ihrer neuen performativen Arbeit „Showdown“ erkundet subbotnik individuelle und kollektive Erb-Erfahrungen und überführt sie in eine spielerische Übung des Streits. Zwischen Show\, Theater und Verhandlungsraum übernehmen die Performer:innen als Erbverwalter:innen nicht nur Besitz – sondern auch Schulden\, Traumata\, Privilegien und offene Familienkonflikte. In neu formierten Erb:gemeinschaften wird aufgeteilt und neu gedacht: Wer bekommt was? Wer bleibt außen vor? Und was bedeutet Erben in einer Gesellschaft\, in der Eigentum stets politisch ist? Ein Bürger:innenchor verdichtet die Stimmen des Publikums – im vielstimmigen Streit öffnet sich der Blick auf die Utopie eines neuen Umgangs mit dem\, was weitergegeben wird!\nBild: Christian Knieps
URL:https://www.meinesuedstadt.de/termine/event/showdown/2026-03-05/
LOCATION:Orangerie Theater\, Volksgartenstraße 25\, Köln\, 50677\, Deutschland
CATEGORIES:Theater
ATTACH;FMTTYPE=image/jpeg:https://www.meinesuedstadt.de/termine/wp-content/uploads/2026/02/Bild-10.jpg
GEO:50.9213606;6.9494976
X-APPLE-STRUCTURED-LOCATION;VALUE=URI;X-ADDRESS=Orangerie Theater Volksgartenstraße 25 Köln 50677 Deutschland;X-APPLE-RADIUS=500;X-TITLE=Volksgartenstraße 25:geo:6.9494976,50.9213606
END:VEVENT
END:VCALENDAR