BEGIN:VCALENDAR
VERSION:2.0
PRODID:-//Meine Südstadt - ECPv6.15.17//NONSGML v1.0//EN
CALSCALE:GREGORIAN
METHOD:PUBLISH
X-WR-CALNAME:Meine Südstadt
X-ORIGINAL-URL:https://www.meinesuedstadt.de/termine
X-WR-CALDESC:Veranstaltungen für Meine Südstadt
REFRESH-INTERVAL;VALUE=DURATION:PT1H
X-Robots-Tag:noindex
X-PUBLISHED-TTL:PT1H
BEGIN:VTIMEZONE
TZID:Europe/Berlin
BEGIN:DAYLIGHT
TZOFFSETFROM:+0100
TZOFFSETTO:+0200
TZNAME:CEST
DTSTART:20250330T010000
END:DAYLIGHT
BEGIN:STANDARD
TZOFFSETFROM:+0200
TZOFFSETTO:+0100
TZNAME:CET
DTSTART:20251026T010000
END:STANDARD
BEGIN:DAYLIGHT
TZOFFSETFROM:+0100
TZOFFSETTO:+0200
TZNAME:CEST
DTSTART:20260329T010000
END:DAYLIGHT
BEGIN:STANDARD
TZOFFSETFROM:+0200
TZOFFSETTO:+0100
TZNAME:CET
DTSTART:20261025T010000
END:STANDARD
BEGIN:DAYLIGHT
TZOFFSETFROM:+0100
TZOFFSETTO:+0200
TZNAME:CEST
DTSTART:20270328T010000
END:DAYLIGHT
BEGIN:STANDARD
TZOFFSETFROM:+0200
TZOFFSETTO:+0100
TZNAME:CET
DTSTART:20271031T010000
END:STANDARD
END:VTIMEZONE
BEGIN:VEVENT
DTSTART;TZID=Europe/Berlin:20260424T190000
DTEND;TZID=Europe/Berlin:20260424T190000
DTSTAMP:20260422T081150
CREATED:20260420T084145Z
LAST-MODIFIED:20260421T172529Z
UID:82647-1777057200-1777057200@www.meinesuedstadt.de
SUMMARY:Guilermo Malfitani - Welten\, die uns verbinden
DESCRIPTION:Geboren in Buenos Aires\, seit Anfang der 90er in Köln\, zeigt Guilermo Malfitani einen Ausschnitt seiner aktueller Arbeiten bei Betonklunker. Sein künstlerisches Schaffen beschränkt sich nicht nur auf eine Technik\, sondern beinhaltet Grafik im Hoch- und Tiefdruckverfahren\, Collagen und Photointerventionen und Malerei.\nÖffnungszeiten: DO & FR	13-19 Uhr\, SA 11-16 Uhr
URL:https://www.meinesuedstadt.de/termine/event/welten-die-uns-verbinden/2026-04-24/
LOCATION:Betonklunker\, Karolingerring 14-16\, Köln\, 50678
CATEGORIES:Ausstellung
ATTACH;FMTTYPE=image/png:https://www.meinesuedstadt.de/termine/wp-content/uploads/2026/04/xjkcCbieIl_S.png
GEO:50.9215788;6.9583982
X-APPLE-STRUCTURED-LOCATION;VALUE=URI;X-ADDRESS=Betonklunker Karolingerring 14-16 Köln 50678;X-APPLE-RADIUS=500;X-TITLE=Karolingerring 14-16:geo:6.9583982,50.9215788
END:VEVENT
BEGIN:VEVENT
DTSTART;TZID=Europe/Berlin:20260425T110000
DTEND;TZID=Europe/Berlin:20260425T160000
DTSTAMP:20260422T081150
CREATED:20260420T084145Z
LAST-MODIFIED:20260421T172529Z
UID:82658-1777114800-1777132800@www.meinesuedstadt.de
SUMMARY:Guilermo Malfitani - Welten\, die uns verbinden
DESCRIPTION:Geboren in Buenos Aires\, seit Anfang der 90er in Köln\, zeigt Guilermo Malfitani einen Ausschnitt seiner aktueller Arbeiten bei Betonklunker. Sein künstlerisches Schaffen beschränkt sich nicht nur auf eine Technik\, sondern beinhaltet Grafik im Hoch- und Tiefdruckverfahren\, Collagen und Photointerventionen und Malerei.\nÖffnungszeiten: DO & FR	13-19 Uhr\, SA 11-16 Uhr
URL:https://www.meinesuedstadt.de/termine/event/welten-die-uns-verbinden/2026-04-25/
LOCATION:Betonklunker\, Karolingerring 14-16\, Köln\, 50678
CATEGORIES:Ausstellung
ATTACH;FMTTYPE=image/png:https://www.meinesuedstadt.de/termine/wp-content/uploads/2026/04/xjkcCbieIl_S.png
GEO:50.9215788;6.9583982
X-APPLE-STRUCTURED-LOCATION;VALUE=URI;X-ADDRESS=Betonklunker Karolingerring 14-16 Köln 50678;X-APPLE-RADIUS=500;X-TITLE=Karolingerring 14-16:geo:6.9583982,50.9215788
END:VEVENT
BEGIN:VEVENT
DTSTART;TZID=Europe/Berlin:20260430T130000
DTEND;TZID=Europe/Berlin:20260430T190000
DTSTAMP:20260422T081150
CREATED:20260420T084145Z
LAST-MODIFIED:20260421T172530Z
UID:82659-1777554000-1777575600@www.meinesuedstadt.de
SUMMARY:Guilermo Malfitani - Welten\, die uns verbinden
DESCRIPTION:Geboren in Buenos Aires\, seit Anfang der 90er in Köln\, zeigt Guilermo Malfitani einen Ausschnitt seiner aktueller Arbeiten bei Betonklunker. Sein künstlerisches Schaffen beschränkt sich nicht nur auf eine Technik\, sondern beinhaltet Grafik im Hoch- und Tiefdruckverfahren\, Collagen und Photointerventionen und Malerei.\nÖffnungszeiten: DO & FR	13-19 Uhr\, SA 11-16 Uhr
URL:https://www.meinesuedstadt.de/termine/event/welten-die-uns-verbinden/2026-04-30/
LOCATION:Betonklunker\, Karolingerring 14-16\, Köln\, 50678
CATEGORIES:Ausstellung
ATTACH;FMTTYPE=image/png:https://www.meinesuedstadt.de/termine/wp-content/uploads/2026/04/xjkcCbieIl_S.png
GEO:50.9215788;6.9583982
X-APPLE-STRUCTURED-LOCATION;VALUE=URI;X-ADDRESS=Betonklunker Karolingerring 14-16 Köln 50678;X-APPLE-RADIUS=500;X-TITLE=Karolingerring 14-16:geo:6.9583982,50.9215788
END:VEVENT
BEGIN:VEVENT
DTSTART;TZID=Europe/Berlin:20260501T130000
DTEND;TZID=Europe/Berlin:20260501T190000
DTSTAMP:20260422T081150
CREATED:20260420T084145Z
LAST-MODIFIED:20260421T172530Z
UID:82660-1777640400-1777662000@www.meinesuedstadt.de
SUMMARY:Guilermo Malfitani - Welten\, die uns verbinden
DESCRIPTION:Geboren in Buenos Aires\, seit Anfang der 90er in Köln\, zeigt Guilermo Malfitani einen Ausschnitt seiner aktueller Arbeiten bei Betonklunker. Sein künstlerisches Schaffen beschränkt sich nicht nur auf eine Technik\, sondern beinhaltet Grafik im Hoch- und Tiefdruckverfahren\, Collagen und Photointerventionen und Malerei.\nÖffnungszeiten: DO & FR	13-19 Uhr\, SA 11-16 Uhr
URL:https://www.meinesuedstadt.de/termine/event/welten-die-uns-verbinden/2026-05-01/
LOCATION:Betonklunker\, Karolingerring 14-16\, Köln\, 50678
CATEGORIES:Ausstellung
ATTACH;FMTTYPE=image/png:https://www.meinesuedstadt.de/termine/wp-content/uploads/2026/04/xjkcCbieIl_S.png
GEO:50.9215788;6.9583982
X-APPLE-STRUCTURED-LOCATION;VALUE=URI;X-ADDRESS=Betonklunker Karolingerring 14-16 Köln 50678;X-APPLE-RADIUS=500;X-TITLE=Karolingerring 14-16:geo:6.9583982,50.9215788
END:VEVENT
BEGIN:VEVENT
DTSTART;TZID=Europe/Berlin:20260502T110000
DTEND;TZID=Europe/Berlin:20260502T160000
DTSTAMP:20260422T081150
CREATED:20260420T084145Z
LAST-MODIFIED:20260421T172530Z
UID:82661-1777719600-1777737600@www.meinesuedstadt.de
SUMMARY:Guilermo Malfitani - Welten\, die uns verbinden
DESCRIPTION:Geboren in Buenos Aires\, seit Anfang der 90er in Köln\, zeigt Guilermo Malfitani einen Ausschnitt seiner aktueller Arbeiten bei Betonklunker. Sein künstlerisches Schaffen beschränkt sich nicht nur auf eine Technik\, sondern beinhaltet Grafik im Hoch- und Tiefdruckverfahren\, Collagen und Photointerventionen und Malerei.\nÖffnungszeiten: DO & FR	13-19 Uhr\, SA 11-16 Uhr
URL:https://www.meinesuedstadt.de/termine/event/welten-die-uns-verbinden/2026-05-02/
LOCATION:Betonklunker\, Karolingerring 14-16\, Köln\, 50678
CATEGORIES:Ausstellung
ATTACH;FMTTYPE=image/png:https://www.meinesuedstadt.de/termine/wp-content/uploads/2026/04/xjkcCbieIl_S.png
GEO:50.9215788;6.9583982
X-APPLE-STRUCTURED-LOCATION;VALUE=URI;X-ADDRESS=Betonklunker Karolingerring 14-16 Köln 50678;X-APPLE-RADIUS=500;X-TITLE=Karolingerring 14-16:geo:6.9583982,50.9215788
END:VEVENT
BEGIN:VEVENT
DTSTART;TZID=Europe/Berlin:20260507T130000
DTEND;TZID=Europe/Berlin:20260507T190000
DTSTAMP:20260422T081150
CREATED:20260420T084145Z
LAST-MODIFIED:20260421T172530Z
UID:82662-1778158800-1778180400@www.meinesuedstadt.de
SUMMARY:Guilermo Malfitani - Welten\, die uns verbinden
DESCRIPTION:Geboren in Buenos Aires\, seit Anfang der 90er in Köln\, zeigt Guilermo Malfitani einen Ausschnitt seiner aktueller Arbeiten bei Betonklunker. Sein künstlerisches Schaffen beschränkt sich nicht nur auf eine Technik\, sondern beinhaltet Grafik im Hoch- und Tiefdruckverfahren\, Collagen und Photointerventionen und Malerei.\nÖffnungszeiten: DO & FR	13-19 Uhr\, SA 11-16 Uhr
URL:https://www.meinesuedstadt.de/termine/event/welten-die-uns-verbinden/2026-05-07/
LOCATION:Betonklunker\, Karolingerring 14-16\, Köln\, 50678
CATEGORIES:Ausstellung
ATTACH;FMTTYPE=image/png:https://www.meinesuedstadt.de/termine/wp-content/uploads/2026/04/xjkcCbieIl_S.png
GEO:50.9215788;6.9583982
X-APPLE-STRUCTURED-LOCATION;VALUE=URI;X-ADDRESS=Betonklunker Karolingerring 14-16 Köln 50678;X-APPLE-RADIUS=500;X-TITLE=Karolingerring 14-16:geo:6.9583982,50.9215788
END:VEVENT
BEGIN:VEVENT
DTSTART;TZID=Europe/Berlin:20260508T130000
DTEND;TZID=Europe/Berlin:20260508T190000
DTSTAMP:20260422T081150
CREATED:20260420T084145Z
LAST-MODIFIED:20260421T172530Z
UID:82663-1778245200-1778266800@www.meinesuedstadt.de
SUMMARY:Guilermo Malfitani - Welten\, die uns verbinden
DESCRIPTION:Geboren in Buenos Aires\, seit Anfang der 90er in Köln\, zeigt Guilermo Malfitani einen Ausschnitt seiner aktueller Arbeiten bei Betonklunker. Sein künstlerisches Schaffen beschränkt sich nicht nur auf eine Technik\, sondern beinhaltet Grafik im Hoch- und Tiefdruckverfahren\, Collagen und Photointerventionen und Malerei.\nÖffnungszeiten: DO & FR	13-19 Uhr\, SA 11-16 Uhr
URL:https://www.meinesuedstadt.de/termine/event/welten-die-uns-verbinden/2026-05-08/
LOCATION:Betonklunker\, Karolingerring 14-16\, Köln\, 50678
CATEGORIES:Ausstellung
ATTACH;FMTTYPE=image/png:https://www.meinesuedstadt.de/termine/wp-content/uploads/2026/04/xjkcCbieIl_S.png
GEO:50.9215788;6.9583982
X-APPLE-STRUCTURED-LOCATION;VALUE=URI;X-ADDRESS=Betonklunker Karolingerring 14-16 Köln 50678;X-APPLE-RADIUS=500;X-TITLE=Karolingerring 14-16:geo:6.9583982,50.9215788
END:VEVENT
BEGIN:VEVENT
DTSTART;TZID=Europe/Berlin:20260509T110000
DTEND;TZID=Europe/Berlin:20260509T160000
DTSTAMP:20260422T081150
CREATED:20260420T084145Z
LAST-MODIFIED:20260421T172530Z
UID:82664-1778324400-1778342400@www.meinesuedstadt.de
SUMMARY:Guilermo Malfitani - Welten\, die uns verbinden
DESCRIPTION:Geboren in Buenos Aires\, seit Anfang der 90er in Köln\, zeigt Guilermo Malfitani einen Ausschnitt seiner aktueller Arbeiten bei Betonklunker. Sein künstlerisches Schaffen beschränkt sich nicht nur auf eine Technik\, sondern beinhaltet Grafik im Hoch- und Tiefdruckverfahren\, Collagen und Photointerventionen und Malerei.\nÖffnungszeiten: DO & FR	13-19 Uhr\, SA 11-16 Uhr
URL:https://www.meinesuedstadt.de/termine/event/welten-die-uns-verbinden/2026-05-09/
LOCATION:Betonklunker\, Karolingerring 14-16\, Köln\, 50678
CATEGORIES:Ausstellung
ATTACH;FMTTYPE=image/png:https://www.meinesuedstadt.de/termine/wp-content/uploads/2026/04/xjkcCbieIl_S.png
GEO:50.9215788;6.9583982
X-APPLE-STRUCTURED-LOCATION;VALUE=URI;X-ADDRESS=Betonklunker Karolingerring 14-16 Köln 50678;X-APPLE-RADIUS=500;X-TITLE=Karolingerring 14-16:geo:6.9583982,50.9215788
END:VEVENT
BEGIN:VEVENT
DTSTART;TZID=Europe/Berlin:20260514T130000
DTEND;TZID=Europe/Berlin:20260514T190000
DTSTAMP:20260422T081150
CREATED:20260420T084145Z
LAST-MODIFIED:20260421T172530Z
UID:82665-1778763600-1778785200@www.meinesuedstadt.de
SUMMARY:Guilermo Malfitani - Welten\, die uns verbinden
DESCRIPTION:Geboren in Buenos Aires\, seit Anfang der 90er in Köln\, zeigt Guilermo Malfitani einen Ausschnitt seiner aktueller Arbeiten bei Betonklunker. Sein künstlerisches Schaffen beschränkt sich nicht nur auf eine Technik\, sondern beinhaltet Grafik im Hoch- und Tiefdruckverfahren\, Collagen und Photointerventionen und Malerei.\nÖffnungszeiten: DO & FR	13-19 Uhr\, SA 11-16 Uhr
URL:https://www.meinesuedstadt.de/termine/event/welten-die-uns-verbinden/2026-05-14/
LOCATION:Betonklunker\, Karolingerring 14-16\, Köln\, 50678
CATEGORIES:Ausstellung
ATTACH;FMTTYPE=image/png:https://www.meinesuedstadt.de/termine/wp-content/uploads/2026/04/xjkcCbieIl_S.png
GEO:50.9215788;6.9583982
X-APPLE-STRUCTURED-LOCATION;VALUE=URI;X-ADDRESS=Betonklunker Karolingerring 14-16 Köln 50678;X-APPLE-RADIUS=500;X-TITLE=Karolingerring 14-16:geo:6.9583982,50.9215788
END:VEVENT
BEGIN:VEVENT
DTSTART;TZID=Europe/Berlin:20260515T130000
DTEND;TZID=Europe/Berlin:20260515T190000
DTSTAMP:20260422T081150
CREATED:20260420T084145Z
LAST-MODIFIED:20260421T172530Z
UID:82666-1778850000-1778871600@www.meinesuedstadt.de
SUMMARY:Guilermo Malfitani - Welten\, die uns verbinden
DESCRIPTION:Geboren in Buenos Aires\, seit Anfang der 90er in Köln\, zeigt Guilermo Malfitani einen Ausschnitt seiner aktueller Arbeiten bei Betonklunker. Sein künstlerisches Schaffen beschränkt sich nicht nur auf eine Technik\, sondern beinhaltet Grafik im Hoch- und Tiefdruckverfahren\, Collagen und Photointerventionen und Malerei.\nÖffnungszeiten: DO & FR	13-19 Uhr\, SA 11-16 Uhr
URL:https://www.meinesuedstadt.de/termine/event/welten-die-uns-verbinden/2026-05-15/
LOCATION:Betonklunker\, Karolingerring 14-16\, Köln\, 50678
CATEGORIES:Ausstellung
ATTACH;FMTTYPE=image/png:https://www.meinesuedstadt.de/termine/wp-content/uploads/2026/04/xjkcCbieIl_S.png
GEO:50.9215788;6.9583982
X-APPLE-STRUCTURED-LOCATION;VALUE=URI;X-ADDRESS=Betonklunker Karolingerring 14-16 Köln 50678;X-APPLE-RADIUS=500;X-TITLE=Karolingerring 14-16:geo:6.9583982,50.9215788
END:VEVENT
BEGIN:VEVENT
DTSTART;TZID=Europe/Berlin:20260516T110000
DTEND;TZID=Europe/Berlin:20260516T160000
DTSTAMP:20260422T081150
CREATED:20260420T084145Z
LAST-MODIFIED:20260421T172530Z
UID:82667-1778929200-1778947200@www.meinesuedstadt.de
SUMMARY:Guilermo Malfitani - Welten\, die uns verbinden
DESCRIPTION:Geboren in Buenos Aires\, seit Anfang der 90er in Köln\, zeigt Guilermo Malfitani einen Ausschnitt seiner aktueller Arbeiten bei Betonklunker. Sein künstlerisches Schaffen beschränkt sich nicht nur auf eine Technik\, sondern beinhaltet Grafik im Hoch- und Tiefdruckverfahren\, Collagen und Photointerventionen und Malerei.\nÖffnungszeiten: DO & FR	13-19 Uhr\, SA 11-16 Uhr
URL:https://www.meinesuedstadt.de/termine/event/welten-die-uns-verbinden/2026-05-16/
LOCATION:Betonklunker\, Karolingerring 14-16\, Köln\, 50678
CATEGORIES:Ausstellung
ATTACH;FMTTYPE=image/png:https://www.meinesuedstadt.de/termine/wp-content/uploads/2026/04/xjkcCbieIl_S.png
GEO:50.9215788;6.9583982
X-APPLE-STRUCTURED-LOCATION;VALUE=URI;X-ADDRESS=Betonklunker Karolingerring 14-16 Köln 50678;X-APPLE-RADIUS=500;X-TITLE=Karolingerring 14-16:geo:6.9583982,50.9215788
END:VEVENT
BEGIN:VEVENT
DTSTART;TZID=Europe/Berlin:20260521T130000
DTEND;TZID=Europe/Berlin:20260521T190000
DTSTAMP:20260422T081150
CREATED:20260420T084145Z
LAST-MODIFIED:20260421T172536Z
UID:82669-1779368400-1779390000@www.meinesuedstadt.de
SUMMARY:Guilermo Malfitani - Welten\, die uns verbinden
DESCRIPTION:Geboren in Buenos Aires\, seit Anfang der 90er in Köln\, zeigt Guilermo Malfitani einen Ausschnitt seiner aktueller Arbeiten bei Betonklunker. Sein künstlerisches Schaffen beschränkt sich nicht nur auf eine Technik\, sondern beinhaltet Grafik im Hoch- und Tiefdruckverfahren\, Collagen und Photointerventionen und Malerei.\nÖffnungszeiten: DO & FR	13-19 Uhr\, SA 11-16 Uhr
URL:https://www.meinesuedstadt.de/termine/event/welten-die-uns-verbinden/2026-05-21/
LOCATION:Betonklunker\, Karolingerring 14-16\, Köln\, 50678
CATEGORIES:Ausstellung
ATTACH;FMTTYPE=image/png:https://www.meinesuedstadt.de/termine/wp-content/uploads/2026/04/xjkcCbieIl_S.png
GEO:50.9215788;6.9583982
X-APPLE-STRUCTURED-LOCATION;VALUE=URI;X-ADDRESS=Betonklunker Karolingerring 14-16 Köln 50678;X-APPLE-RADIUS=500;X-TITLE=Karolingerring 14-16:geo:6.9583982,50.9215788
END:VEVENT
BEGIN:VEVENT
DTSTART;TZID=Europe/Berlin:20260522T130000
DTEND;TZID=Europe/Berlin:20260522T190000
DTSTAMP:20260422T081150
CREATED:20260420T084145Z
LAST-MODIFIED:20260421T172537Z
UID:82670-1779454800-1779476400@www.meinesuedstadt.de
SUMMARY:Guilermo Malfitani - Welten\, die uns verbinden
DESCRIPTION:Geboren in Buenos Aires\, seit Anfang der 90er in Köln\, zeigt Guilermo Malfitani einen Ausschnitt seiner aktueller Arbeiten bei Betonklunker. Sein künstlerisches Schaffen beschränkt sich nicht nur auf eine Technik\, sondern beinhaltet Grafik im Hoch- und Tiefdruckverfahren\, Collagen und Photointerventionen und Malerei.\nÖffnungszeiten: DO & FR	13-19 Uhr\, SA 11-16 Uhr
URL:https://www.meinesuedstadt.de/termine/event/welten-die-uns-verbinden/2026-05-22/
LOCATION:Betonklunker\, Karolingerring 14-16\, Köln\, 50678
CATEGORIES:Ausstellung
ATTACH;FMTTYPE=image/png:https://www.meinesuedstadt.de/termine/wp-content/uploads/2026/04/xjkcCbieIl_S.png
GEO:50.9215788;6.9583982
X-APPLE-STRUCTURED-LOCATION;VALUE=URI;X-ADDRESS=Betonklunker Karolingerring 14-16 Köln 50678;X-APPLE-RADIUS=500;X-TITLE=Karolingerring 14-16:geo:6.9583982,50.9215788
END:VEVENT
BEGIN:VEVENT
DTSTART;TZID=Europe/Berlin:20260523T110000
DTEND;TZID=Europe/Berlin:20260523T160000
DTSTAMP:20260422T081150
CREATED:20260420T084145Z
LAST-MODIFIED:20260421T172537Z
UID:82671-1779534000-1779552000@www.meinesuedstadt.de
SUMMARY:Guilermo Malfitani - Welten\, die uns verbinden
DESCRIPTION:Geboren in Buenos Aires\, seit Anfang der 90er in Köln\, zeigt Guilermo Malfitani einen Ausschnitt seiner aktueller Arbeiten bei Betonklunker. Sein künstlerisches Schaffen beschränkt sich nicht nur auf eine Technik\, sondern beinhaltet Grafik im Hoch- und Tiefdruckverfahren\, Collagen und Photointerventionen und Malerei.\nÖffnungszeiten: DO & FR	13-19 Uhr\, SA 11-16 Uhr
URL:https://www.meinesuedstadt.de/termine/event/welten-die-uns-verbinden/2026-05-23/
LOCATION:Betonklunker\, Karolingerring 14-16\, Köln\, 50678
CATEGORIES:Ausstellung
ATTACH;FMTTYPE=image/png:https://www.meinesuedstadt.de/termine/wp-content/uploads/2026/04/xjkcCbieIl_S.png
GEO:50.9215788;6.9583982
X-APPLE-STRUCTURED-LOCATION;VALUE=URI;X-ADDRESS=Betonklunker Karolingerring 14-16 Köln 50678;X-APPLE-RADIUS=500;X-TITLE=Karolingerring 14-16:geo:6.9583982,50.9215788
END:VEVENT
BEGIN:VEVENT
DTSTART;TZID=Europe/Berlin:20260528T130000
DTEND;TZID=Europe/Berlin:20260528T190000
DTSTAMP:20260422T081150
CREATED:20260420T084145Z
LAST-MODIFIED:20260421T172537Z
UID:82672-1779973200-1779994800@www.meinesuedstadt.de
SUMMARY:Guilermo Malfitani - Welten\, die uns verbinden
DESCRIPTION:Geboren in Buenos Aires\, seit Anfang der 90er in Köln\, zeigt Guilermo Malfitani einen Ausschnitt seiner aktueller Arbeiten bei Betonklunker. Sein künstlerisches Schaffen beschränkt sich nicht nur auf eine Technik\, sondern beinhaltet Grafik im Hoch- und Tiefdruckverfahren\, Collagen und Photointerventionen und Malerei.\nÖffnungszeiten: DO & FR	13-19 Uhr\, SA 11-16 Uhr
URL:https://www.meinesuedstadt.de/termine/event/welten-die-uns-verbinden/2026-05-28/
LOCATION:Betonklunker\, Karolingerring 14-16\, Köln\, 50678
CATEGORIES:Ausstellung
ATTACH;FMTTYPE=image/png:https://www.meinesuedstadt.de/termine/wp-content/uploads/2026/04/xjkcCbieIl_S.png
GEO:50.9215788;6.9583982
X-APPLE-STRUCTURED-LOCATION;VALUE=URI;X-ADDRESS=Betonklunker Karolingerring 14-16 Köln 50678;X-APPLE-RADIUS=500;X-TITLE=Karolingerring 14-16:geo:6.9583982,50.9215788
END:VEVENT
BEGIN:VEVENT
DTSTART;TZID=Europe/Berlin:20260529T130000
DTEND;TZID=Europe/Berlin:20260529T190000
DTSTAMP:20260422T081150
CREATED:20260420T084145Z
LAST-MODIFIED:20260421T172537Z
UID:82673-1780059600-1780081200@www.meinesuedstadt.de
SUMMARY:Guilermo Malfitani - Welten\, die uns verbinden
DESCRIPTION:Geboren in Buenos Aires\, seit Anfang der 90er in Köln\, zeigt Guilermo Malfitani einen Ausschnitt seiner aktueller Arbeiten bei Betonklunker. Sein künstlerisches Schaffen beschränkt sich nicht nur auf eine Technik\, sondern beinhaltet Grafik im Hoch- und Tiefdruckverfahren\, Collagen und Photointerventionen und Malerei.\nÖffnungszeiten: DO & FR	13-19 Uhr\, SA 11-16 Uhr
URL:https://www.meinesuedstadt.de/termine/event/welten-die-uns-verbinden/2026-05-29/
LOCATION:Betonklunker\, Karolingerring 14-16\, Köln\, 50678
CATEGORIES:Ausstellung
ATTACH;FMTTYPE=image/png:https://www.meinesuedstadt.de/termine/wp-content/uploads/2026/04/xjkcCbieIl_S.png
GEO:50.9215788;6.9583982
X-APPLE-STRUCTURED-LOCATION;VALUE=URI;X-ADDRESS=Betonklunker Karolingerring 14-16 Köln 50678;X-APPLE-RADIUS=500;X-TITLE=Karolingerring 14-16:geo:6.9583982,50.9215788
END:VEVENT
BEGIN:VEVENT
DTSTART;TZID=Europe/Berlin:20260530T110000
DTEND;TZID=Europe/Berlin:20260530T160000
DTSTAMP:20260422T081150
CREATED:20260420T084145Z
LAST-MODIFIED:20260421T172537Z
UID:82674-1780138800-1780156800@www.meinesuedstadt.de
SUMMARY:Guilermo Malfitani - Welten\, die uns verbinden
DESCRIPTION:Geboren in Buenos Aires\, seit Anfang der 90er in Köln\, zeigt Guilermo Malfitani einen Ausschnitt seiner aktueller Arbeiten bei Betonklunker. Sein künstlerisches Schaffen beschränkt sich nicht nur auf eine Technik\, sondern beinhaltet Grafik im Hoch- und Tiefdruckverfahren\, Collagen und Photointerventionen und Malerei.\nÖffnungszeiten: DO & FR	13-19 Uhr\, SA 11-16 Uhr
URL:https://www.meinesuedstadt.de/termine/event/welten-die-uns-verbinden/2026-05-30/
LOCATION:Betonklunker\, Karolingerring 14-16\, Köln\, 50678
CATEGORIES:Ausstellung
ATTACH;FMTTYPE=image/png:https://www.meinesuedstadt.de/termine/wp-content/uploads/2026/04/xjkcCbieIl_S.png
GEO:50.9215788;6.9583982
X-APPLE-STRUCTURED-LOCATION;VALUE=URI;X-ADDRESS=Betonklunker Karolingerring 14-16 Köln 50678;X-APPLE-RADIUS=500;X-TITLE=Karolingerring 14-16:geo:6.9583982,50.9215788
END:VEVENT
END:VCALENDAR