BEGIN:VCALENDAR
VERSION:2.0
PRODID:-//Meine Südstadt - ECPv6.15.17//NONSGML v1.0//EN
CALSCALE:GREGORIAN
METHOD:PUBLISH
X-WR-CALNAME:Meine Südstadt
X-ORIGINAL-URL:https://www.meinesuedstadt.de/termine
X-WR-CALDESC:Veranstaltungen für Meine Südstadt
REFRESH-INTERVAL;VALUE=DURATION:PT1H
X-Robots-Tag:noindex
X-PUBLISHED-TTL:PT1H
BEGIN:VTIMEZONE
TZID:Europe/Berlin
BEGIN:DAYLIGHT
TZOFFSETFROM:+0100
TZOFFSETTO:+0200
TZNAME:CEST
DTSTART:20250330T010000
END:DAYLIGHT
BEGIN:STANDARD
TZOFFSETFROM:+0200
TZOFFSETTO:+0100
TZNAME:CET
DTSTART:20251026T010000
END:STANDARD
BEGIN:DAYLIGHT
TZOFFSETFROM:+0100
TZOFFSETTO:+0200
TZNAME:CEST
DTSTART:20260329T010000
END:DAYLIGHT
BEGIN:STANDARD
TZOFFSETFROM:+0200
TZOFFSETTO:+0100
TZNAME:CET
DTSTART:20261025T010000
END:STANDARD
BEGIN:DAYLIGHT
TZOFFSETFROM:+0100
TZOFFSETTO:+0200
TZNAME:CEST
DTSTART:20270328T010000
END:DAYLIGHT
BEGIN:STANDARD
TZOFFSETFROM:+0200
TZOFFSETTO:+0100
TZNAME:CET
DTSTART:20271031T010000
END:STANDARD
END:VTIMEZONE
BEGIN:VEVENT
DTSTART;TZID=Europe/Berlin:20260118T180000
DTEND;TZID=Europe/Berlin:20260118T180000
DTSTAMP:20260421T195746
CREATED:20251220T163706Z
LAST-MODIFIED:20251220T163729Z
UID:79438-1768759200-1768759200@www.meinesuedstadt.de
SUMMARY:Grenzgang-Reise-Comedy: Alle an Bord? Mit Sonnenflügeln von Berlin nach Athen
DESCRIPTION:Die Zwillinge Paul und Hansen wollen mit Anna\, Pauls und Annas kleiner Tochter Momo sowie Hansens Schäferhund 10.000 km von Berlin aus über die Flüsse und Meere Europas fahren – CO2-neutral in einem kleinen\, elektrisch umgerüsteten Boot mit riesigen satellitenähnlichen Solarflügeln. Ein ungeschminktes Abenteuer mit viel Improvisation\, Krisen\, überraschenden Wendepunkten\, schönen Anekdoten\, Humor\, Selbstironie\, überbordendem Menschsein – und nicht nur einem Happy End!
URL:https://www.meinesuedstadt.de/termine/event/grenzgang-reise-comedy-alle-an-bord-mit-sonnenfluegeln-von-berlin-nach-athen/
LOCATION:Comedia Theater\, Vondelstraße 4-8\, Köln\, NRW\, 50677\, Deutschland
CATEGORIES:Kleinkunst
ATTACH;FMTTYPE=image/jpeg:https://www.meinesuedstadt.de/termine/wp-content/uploads/2025/12/001_0006_grenzgang-reisereportage-hoepner-alle_an_bord-key_visual.jpeg
ORGANIZER;CN="Comedia Theater":MAILTO:info@comedia-koeln.de
GEO:50.9206662;6.9553669
X-APPLE-STRUCTURED-LOCATION;VALUE=URI;X-ADDRESS=Comedia Theater Vondelstraße 4-8 Köln NRW 50677 Deutschland;X-APPLE-RADIUS=500;X-TITLE=Vondelstraße 4-8:geo:6.9553669,50.9206662
END:VEVENT
END:VCALENDAR