BEGIN:VCALENDAR
VERSION:2.0
PRODID:-//Meine Südstadt - ECPv6.15.17//NONSGML v1.0//EN
CALSCALE:GREGORIAN
METHOD:PUBLISH
X-ORIGINAL-URL:https://www.meinesuedstadt.de/termine
X-WR-CALDESC:Veranstaltungen für Meine Südstadt
REFRESH-INTERVAL;VALUE=DURATION:PT1H
X-Robots-Tag:noindex
X-PUBLISHED-TTL:PT1H
BEGIN:VTIMEZONE
TZID:Europe/Berlin
BEGIN:DAYLIGHT
TZOFFSETFROM:+0100
TZOFFSETTO:+0200
TZNAME:CEST
DTSTART:20250330T010000
END:DAYLIGHT
BEGIN:STANDARD
TZOFFSETFROM:+0200
TZOFFSETTO:+0100
TZNAME:CET
DTSTART:20251026T010000
END:STANDARD
BEGIN:DAYLIGHT
TZOFFSETFROM:+0100
TZOFFSETTO:+0200
TZNAME:CEST
DTSTART:20260329T010000
END:DAYLIGHT
BEGIN:STANDARD
TZOFFSETFROM:+0200
TZOFFSETTO:+0100
TZNAME:CET
DTSTART:20261025T010000
END:STANDARD
BEGIN:DAYLIGHT
TZOFFSETFROM:+0100
TZOFFSETTO:+0200
TZNAME:CEST
DTSTART:20270328T010000
END:DAYLIGHT
BEGIN:STANDARD
TZOFFSETFROM:+0200
TZOFFSETTO:+0100
TZNAME:CET
DTSTART:20271031T010000
END:STANDARD
END:VTIMEZONE
BEGIN:VEVENT
DTSTART;TZID=Europe/Berlin:20260305T193000
DTEND;TZID=Europe/Berlin:20260305T193000
DTSTAMP:20260421T164818
CREATED:20260206T231209Z
LAST-MODIFIED:20260206T231209Z
UID:80914-1772739000-1772739000@www.meinesuedstadt.de
SUMMARY:Couchgespräche: Let's talk about sex
DESCRIPTION:Auch wenn nicht alle Sex haben – alle haben irgendwie damit zu tun. Mit Erwartungen\, Bildern\, Zuschreibungen\, Regeln oder Tabus. Mit Couchgespräche bringen die KleinenMehrheiten ein neues Talkformat ins COMEDIA Theater: persönlich\, nahbar und mitten aus dem Leben. Ergänzt wird jede Ausgabe durch einen Musik-Act.\nDie erste Ausgabe widmet sich dem Thema „Let’s talk about sex“ und beleuchtet Sexualität jenseits von Klischees. Im Fokus stehen Perspektiven\, die in öffentlichen Debatten oft fehlen: Tabuisierung von Sexualität in verschiedenen Communitys\, Fetischisierung\, Ableismus\, Empowerment\, Rassismus und Diskriminierung. Wichtig ist dabei der Ansatz\, nicht über\, sondern miteinander zu sprechen. Die konkreten Gäst*innen werden noch bekannt gegeben. Moderiert wird der Abend von Oyindamola Alashe und Gianni Jovanovic.\nBild: Carolin Windel
URL:https://www.meinesuedstadt.de/termine/event/couchgespraeche-lets-talk-about-sex/
LOCATION:Comedia Theater\, Vondelstraße 4-8\, Köln\, NRW\, 50677\, Deutschland
CATEGORIES:Kleinkunst
ATTACH;FMTTYPE=image/jpeg:https://www.meinesuedstadt.de/termine/wp-content/uploads/2026/02/couchgespraeche_0003_jovanovic_giannialashe_oyindamola_couchgespraeche_c_carolin_windel_2-Kopie.jpg
ORGANIZER;CN="Comedia Theater":MAILTO:info@comedia-koeln.de
GEO:50.9206662;6.9553669
X-APPLE-STRUCTURED-LOCATION;VALUE=URI;X-ADDRESS=Comedia Theater Vondelstraße 4-8 Köln NRW 50677 Deutschland;X-APPLE-RADIUS=500;X-TITLE=Vondelstraße 4-8:geo:6.9553669,50.9206662
END:VEVENT
BEGIN:VEVENT
DTSTART;TZID=Europe/Berlin:20260322T190000
DTEND;TZID=Europe/Berlin:20260322T190000
DTSTAMP:20260421T164818
CREATED:20260314T095532Z
LAST-MODIFIED:20260314T095532Z
UID:81857-1774206000-1774206000@www.meinesuedstadt.de
SUMMARY:Lukas Heinser & Thorsten Schorn: ESC – Die Show zum kleinsten Buch zum größten Musikereignis
DESCRIPTION:Der Eurovision Song Contest ist Kult. Dieses Buch vereint das Lustige\, das Erstaunliche\, das Politische und das Skandalöse. Amüsant und kurzweilig schreibt Lukas Heinser\, der den Song Contest seit 2010 aus nächster Nähe begleitet\, über die schönsten Momente aus 70 Jahren Grand Prix und über die Geschichten\, die noch nicht alle kennen: Von den schlecht dokumentierten Anfängen in einem Theater in Lugano bis zu Wörtern\, die in einer Fernsehshow für die ganze Familie nicht auftauchen sollten.\nWenige Tage vor dem offiziellen Verkaufsstart stellt Lukas Heinser sein neues Buch im COMEDIA Theater vor. Unterstützt wird er dabei von dem Mann\, dem er sonst beim ESC assistiert: dem Kommentator fürs deutsche Fernsehen\, Thorsten Schorn. Der hat nämlich bislang kein eigenes Buch geschrieben. Weil er aber so schön vorlesen kann\, nimmt er einfach das von Lukas.\nBild: Dominik Fuehr
URL:https://www.meinesuedstadt.de/termine/event/lukas-heinser-thorsten-schorn-esc-die-show-zum-kleinsten-buch-zum-groessten-musikereignis/
LOCATION:Comedia Theater\, Vondelstraße 4-8\, Köln\, 50677\, Deutschland
CATEGORIES:Kleinkunst,Konzert
ATTACH;FMTTYPE=image/jpeg:https://www.meinesuedstadt.de/termine/wp-content/uploads/2026/03/lukas_heinser_esc_buch_0000_heinser_lukas_esc_buch_c_dominik_fuehr.jpeg
ORGANIZER;CN="Comedia Theater":MAILTO:info@comedia-koeln.de
GEO:50.9206662;6.9553669
X-APPLE-STRUCTURED-LOCATION;VALUE=URI;X-ADDRESS=Comedia Theater Vondelstraße 4-8 Köln 50677 Deutschland;X-APPLE-RADIUS=500;X-TITLE=Vondelstraße 4-8:geo:6.9553669,50.9206662
END:VEVENT
END:VCALENDAR