BEGIN:VCALENDAR
VERSION:2.0
PRODID:-//Meine Südstadt - ECPv6.15.17//NONSGML v1.0//EN
CALSCALE:GREGORIAN
METHOD:PUBLISH
X-ORIGINAL-URL:https://www.meinesuedstadt.de/termine
X-WR-CALDESC:Veranstaltungen für Meine Südstadt
REFRESH-INTERVAL;VALUE=DURATION:PT1H
X-Robots-Tag:noindex
X-PUBLISHED-TTL:PT1H
BEGIN:VTIMEZONE
TZID:Europe/Berlin
BEGIN:DAYLIGHT
TZOFFSETFROM:+0100
TZOFFSETTO:+0200
TZNAME:CEST
DTSTART:20250330T010000
END:DAYLIGHT
BEGIN:STANDARD
TZOFFSETFROM:+0200
TZOFFSETTO:+0100
TZNAME:CET
DTSTART:20251026T010000
END:STANDARD
BEGIN:DAYLIGHT
TZOFFSETFROM:+0100
TZOFFSETTO:+0200
TZNAME:CEST
DTSTART:20260329T010000
END:DAYLIGHT
BEGIN:STANDARD
TZOFFSETFROM:+0200
TZOFFSETTO:+0100
TZNAME:CET
DTSTART:20261025T010000
END:STANDARD
BEGIN:DAYLIGHT
TZOFFSETFROM:+0100
TZOFFSETTO:+0200
TZNAME:CEST
DTSTART:20270328T010000
END:DAYLIGHT
BEGIN:STANDARD
TZOFFSETFROM:+0200
TZOFFSETTO:+0100
TZNAME:CET
DTSTART:20271031T010000
END:STANDARD
END:VTIMEZONE
BEGIN:VEVENT
DTSTART;TZID=Europe/Berlin:20260328T103000
DTEND;TZID=Europe/Berlin:20260328T103000
DTSTAMP:20260421T170340
CREATED:20260222T114303Z
LAST-MODIFIED:20260222T114303Z
UID:81178-1774693800-1774693800@www.meinesuedstadt.de
SUMMARY:Kölner Kongress 2026 - „Freiräume – erkennen\, nutzen\, verteidigen“
DESCRIPTION:„Freiräume – erkennen\, nutzen\, verteidigen“: Unter diesem Motto findet der diesjährige Kölner Kongress im Funkhaus von Deutschlandradio in Köln statt. Freiräume sind wesentlicher Bestandteil jeder pluralistischen Demokratie\, doch durch Krisen aller Art schwinden sie. Umso wichtiger ist\, wie Medien von der Wirklichkeit und den Möglichkeiten gelingenden Lebens berichten.\nDer Journalist Jürgen Kaube beleuchtet in seinem Eröffnungsvortrag\, wie sehr die ideengeschichtliche Opposition von Romantik und Aufklärung in die Gegenwart reicht. Die Rechtswissenschaftlerin Frauke Rostalski diskutiert die aufgeladene Klimadebatte und zeigt auf\, warum individuelle Appelle an ihre Grenzen stoßen. Weitere Perspektiven bieten etwa die Journalistin Solmaz Khorsand zur Bedeutung des „langen Atems“ demokratischer Prozesse\, Politikwissenschaftler Claus Leggewie mit einem Blick auf die Tiefsee als letzten globalen Freiraum\, Drehbuchautor Oliver Schütte\, der die Folgen künstlicher Intelligenz für die Zukunft der Medien analysiert\, und viele andere.\nAn beiden Kongresstagen finden im Deutschlandfunk-Kammermusiksaal künstlerische Produktionen statt: Am 27. März das Live-Feature „Making of: MENSCHHEIT“ von Philine Velhagen und Felizitas Stilleke und am 28. März die Bühnenperformance „Die Ästhetik des Widerstands – Variationen zu Peter Weiss“ von Fabian Saul.\nStudierende der Kunsthochschule für Medien Köln begleiten das Programm mit künstlerischen Installationen.\nEine Übersicht der Veranstaltung finden Sie unter koelner-kongress.de.\nAnmelden könnt Ihr Euch hier oder per Mail an sophie.block@deutschlandradio.de. Die Räumlichkeiten des Kongresses sind barrierefrei.\nBild: Deutschlandradio
URL:https://www.meinesuedstadt.de/termine/event/koelner-kongress-2026-freiraeume-erkennen-nutzen-verteidigen/2026-03-28/
LOCATION:Deutschlandradio-Funkhaus Köln\, Raderberggürtel 40\, Köln\, 50968
CATEGORIES:Information
ATTACH;FMTTYPE=image/jpeg:https://www.meinesuedstadt.de/termine/wp-content/uploads/2026/02/KK26_16-9_2000x1125px_16x9.jpg
GEO:50.9033148;6.9597581
X-APPLE-STRUCTURED-LOCATION;VALUE=URI;X-ADDRESS=Deutschlandradio-Funkhaus Köln Raderberggürtel 40 Köln 50968;X-APPLE-RADIUS=500;X-TITLE=Raderberggürtel 40:geo:6.9597581,50.9033148
END:VEVENT
BEGIN:VEVENT
DTSTART;TZID=Europe/Berlin:20260327T180000
DTEND;TZID=Europe/Berlin:20260327T180000
DTSTAMP:20260421T170340
CREATED:20260222T114303Z
LAST-MODIFIED:20260222T114303Z
UID:81176-1774634400-1774634400@www.meinesuedstadt.de
SUMMARY:Kölner Kongress 2026 - „Freiräume – erkennen\, nutzen\, verteidigen“
DESCRIPTION:„Freiräume – erkennen\, nutzen\, verteidigen“: Unter diesem Motto findet der diesjährige Kölner Kongress im Funkhaus von Deutschlandradio in Köln statt. Freiräume sind wesentlicher Bestandteil jeder pluralistischen Demokratie\, doch durch Krisen aller Art schwinden sie. Umso wichtiger ist\, wie Medien von der Wirklichkeit und den Möglichkeiten gelingenden Lebens berichten.\nDer Journalist Jürgen Kaube beleuchtet in seinem Eröffnungsvortrag\, wie sehr die ideengeschichtliche Opposition von Romantik und Aufklärung in die Gegenwart reicht. Die Rechtswissenschaftlerin Frauke Rostalski diskutiert die aufgeladene Klimadebatte und zeigt auf\, warum individuelle Appelle an ihre Grenzen stoßen. Weitere Perspektiven bieten etwa die Journalistin Solmaz Khorsand zur Bedeutung des „langen Atems“ demokratischer Prozesse\, Politikwissenschaftler Claus Leggewie mit einem Blick auf die Tiefsee als letzten globalen Freiraum\, Drehbuchautor Oliver Schütte\, der die Folgen künstlicher Intelligenz für die Zukunft der Medien analysiert\, und viele andere.\nAn beiden Kongresstagen finden im Deutschlandfunk-Kammermusiksaal künstlerische Produktionen statt: Am 27. März das Live-Feature „Making of: MENSCHHEIT“ von Philine Velhagen und Felizitas Stilleke und am 28. März die Bühnenperformance „Die Ästhetik des Widerstands – Variationen zu Peter Weiss“ von Fabian Saul.\nStudierende der Kunsthochschule für Medien Köln begleiten das Programm mit künstlerischen Installationen.\nEine Übersicht der Veranstaltung finden Sie unter koelner-kongress.de.\nAnmelden könnt Ihr Euch hier oder per Mail an sophie.block@deutschlandradio.de. Die Räumlichkeiten des Kongresses sind barrierefrei.\nBild: Deutschlandradio
URL:https://www.meinesuedstadt.de/termine/event/koelner-kongress-2026-freiraeume-erkennen-nutzen-verteidigen/2026-03-27/
LOCATION:Deutschlandradio-Funkhaus Köln\, Raderberggürtel 40\, Köln\, 50968
CATEGORIES:Information
ATTACH;FMTTYPE=image/jpeg:https://www.meinesuedstadt.de/termine/wp-content/uploads/2026/02/KK26_16-9_2000x1125px_16x9.jpg
GEO:50.9033148;6.9597581
X-APPLE-STRUCTURED-LOCATION;VALUE=URI;X-ADDRESS=Deutschlandradio-Funkhaus Köln Raderberggürtel 40 Köln 50968;X-APPLE-RADIUS=500;X-TITLE=Raderberggürtel 40:geo:6.9597581,50.9033148
END:VEVENT
END:VCALENDAR