BEGIN:VCALENDAR
VERSION:2.0
PRODID:-//Meine Südstadt - ECPv6.15.17//NONSGML v1.0//EN
CALSCALE:GREGORIAN
METHOD:PUBLISH
X-ORIGINAL-URL:https://www.meinesuedstadt.de/termine
X-WR-CALDESC:Veranstaltungen für Meine Südstadt
REFRESH-INTERVAL;VALUE=DURATION:PT1H
X-Robots-Tag:noindex
X-PUBLISHED-TTL:PT1H
BEGIN:VTIMEZONE
TZID:Europe/Berlin
BEGIN:DAYLIGHT
TZOFFSETFROM:+0100
TZOFFSETTO:+0200
TZNAME:CEST
DTSTART:20250330T010000
END:DAYLIGHT
BEGIN:STANDARD
TZOFFSETFROM:+0200
TZOFFSETTO:+0100
TZNAME:CET
DTSTART:20251026T010000
END:STANDARD
BEGIN:DAYLIGHT
TZOFFSETFROM:+0100
TZOFFSETTO:+0200
TZNAME:CEST
DTSTART:20260329T010000
END:DAYLIGHT
BEGIN:STANDARD
TZOFFSETFROM:+0200
TZOFFSETTO:+0100
TZNAME:CET
DTSTART:20261025T010000
END:STANDARD
BEGIN:DAYLIGHT
TZOFFSETFROM:+0100
TZOFFSETTO:+0200
TZNAME:CEST
DTSTART:20270328T010000
END:DAYLIGHT
BEGIN:STANDARD
TZOFFSETFROM:+0200
TZOFFSETTO:+0100
TZNAME:CET
DTSTART:20271031T010000
END:STANDARD
END:VTIMEZONE
BEGIN:VEVENT
DTSTART;TZID=Europe/Berlin:20260508T200000
DTEND;TZID=Europe/Berlin:20260508T200000
DTSTAMP:20260421T194144
CREATED:20260218T172112Z
LAST-MODIFIED:20260326T150756Z
UID:81120-1778270400-1778270400@www.meinesuedstadt.de
SUMMARY:Sing & Strum auf dem Böötchen
DESCRIPTION:Liebe Sängerinnen und Sänger\, Ukulelistas\, Gitarreros\, Bassisten\, Quetschisten und alle anderen\, die nach Akkorden spielen können! Bei der nächsten „Sing & Strum“-Veranstaltung wird auf dem Böötchen unter dem Motto „Shalaschön“ wieder gesungen und geschrammelt\, bis die Planken wanken! Die Setlist besteht aus Songs und Liedern\, die das Herz erwärmen\, die Seele streicheln und den Ohren einen Schmaus bereiten. Alle Songs werden per Beamer auf eine Leinwand projiziert\, sodass alle problemlos mitsingen und -spielen können. Für die Ukulelistas gibt es obendrein sogar noch die Griffbilder dazu. Kommt alle vorbei\, et weed herrlich! Schreibt bei Interesse gerne an „schrammelschorsch@online.de“\, dann erhaltet ihr nähere Infos.
URL:https://www.meinesuedstadt.de/termine/event/sing-strum-auf-dem-boeoetchen/
LOCATION:MS Rodenkirchen\, Rodenkirchener Leinpfad\, Köln\, 50999
CATEGORIES:Konzert,Tanz
ATTACH;FMTTYPE=image/png:https://www.meinesuedstadt.de/termine/wp-content/uploads/2026/02/Schrammelschorsch.png
END:VEVENT
END:VCALENDAR