BEGIN:VCALENDAR
VERSION:2.0
PRODID:-//Meine Südstadt - ECPv6.15.17//NONSGML v1.0//EN
CALSCALE:GREGORIAN
METHOD:PUBLISH
X-WR-CALNAME:Meine Südstadt
X-ORIGINAL-URL:https://www.meinesuedstadt.de/termine
X-WR-CALDESC:Veranstaltungen für Meine Südstadt
REFRESH-INTERVAL;VALUE=DURATION:PT1H
X-Robots-Tag:noindex
X-PUBLISHED-TTL:PT1H
BEGIN:VTIMEZONE
TZID:Europe/Berlin
BEGIN:DAYLIGHT
TZOFFSETFROM:+0100
TZOFFSETTO:+0200
TZNAME:CEST
DTSTART:20250330T010000
END:DAYLIGHT
BEGIN:STANDARD
TZOFFSETFROM:+0200
TZOFFSETTO:+0100
TZNAME:CET
DTSTART:20251026T010000
END:STANDARD
BEGIN:DAYLIGHT
TZOFFSETFROM:+0100
TZOFFSETTO:+0200
TZNAME:CEST
DTSTART:20260329T010000
END:DAYLIGHT
BEGIN:STANDARD
TZOFFSETFROM:+0200
TZOFFSETTO:+0100
TZNAME:CET
DTSTART:20261025T010000
END:STANDARD
BEGIN:DAYLIGHT
TZOFFSETFROM:+0100
TZOFFSETTO:+0200
TZNAME:CEST
DTSTART:20270328T010000
END:DAYLIGHT
BEGIN:STANDARD
TZOFFSETFROM:+0200
TZOFFSETTO:+0100
TZNAME:CET
DTSTART:20271031T010000
END:STANDARD
END:VTIMEZONE
BEGIN:VEVENT
DTSTART;TZID=Europe/Berlin:20260508T170000
DTEND;TZID=Europe/Berlin:20260508T213000
DTSTAMP:20260422T053609
CREATED:20260421T173748Z
LAST-MODIFIED:20260421T173748Z
UID:82692-1778259600-1778275800@www.meinesuedstadt.de
SUMMARY:Urban Wildcard Art
DESCRIPTION:Eine Gruppenausstellung kuratiert von Tom Weecks und Tomy Badurina! Die erste Blüte – Kunst\, Frühlingserwachen & Südstadtflair. 28 nationale und internationale Künstler:innen zeigen bei URBAN WILDCARD ART\, wie vielfältig Urban Art sein kann – überraschend\, mutig\, echt. Mal laut\, mal leise – ein kreatives Spielfeld zwischen Urban Street Art\, Pop Art\, Illustration und Urban Culture.\nWie Joker Karten im Spiel der Stadt mischen sie die Szene neu auf – laut\, wild\, verspielt\, kritisch und poetisch zugleich. Die Werke reichen von Originalen über Prints bis hin zu „Cheap Art“ – erschwingliche Kunstwerke für Urban-Art-Liebhaber:innen.\nAusstellungsdauer: 8.–10. Mai 2026\nÖffnungszeiten: FR 17-21.30 Uhr\, SA 13-20 Uhr\, SO 13-19 Uhr
URL:https://www.meinesuedstadt.de/termine/event/urban-wildcard-art/2026-05-08/
LOCATION:Studio 40\, Alteburger Straße 40\, Köln\, NRW\, 50678\, Deutschland
CATEGORIES:Ausstellung
ATTACH;FMTTYPE=image/png:https://www.meinesuedstadt.de/termine/wp-content/uploads/2026/04/2026-05_UWCA_Event-Grafik_Social-Media_3_4.png
GEO:50.9198117;6.9621256
X-APPLE-STRUCTURED-LOCATION;VALUE=URI;X-ADDRESS=Studio 40 Alteburger Straße 40 Köln NRW 50678 Deutschland;X-APPLE-RADIUS=500;X-TITLE=Alteburger Straße 40:geo:6.9621256,50.9198117
END:VEVENT
BEGIN:VEVENT
DTSTART;TZID=Europe/Berlin:20260509T130000
DTEND;TZID=Europe/Berlin:20260509T200000
DTSTAMP:20260422T053609
CREATED:20260421T173748Z
LAST-MODIFIED:20260421T173748Z
UID:82694-1778331600-1778356800@www.meinesuedstadt.de
SUMMARY:Urban Wildcard Art
DESCRIPTION:Eine Gruppenausstellung kuratiert von Tom Weecks und Tomy Badurina! Die erste Blüte – Kunst\, Frühlingserwachen & Südstadtflair. 28 nationale und internationale Künstler:innen zeigen bei URBAN WILDCARD ART\, wie vielfältig Urban Art sein kann – überraschend\, mutig\, echt. Mal laut\, mal leise – ein kreatives Spielfeld zwischen Urban Street Art\, Pop Art\, Illustration und Urban Culture.\nWie Joker Karten im Spiel der Stadt mischen sie die Szene neu auf – laut\, wild\, verspielt\, kritisch und poetisch zugleich. Die Werke reichen von Originalen über Prints bis hin zu „Cheap Art“ – erschwingliche Kunstwerke für Urban-Art-Liebhaber:innen.\nAusstellungsdauer: 8.–10. Mai 2026\nÖffnungszeiten: FR 17-21.30 Uhr\, SA 13-20 Uhr\, SO 13-19 Uhr
URL:https://www.meinesuedstadt.de/termine/event/urban-wildcard-art/2026-05-09/
LOCATION:Studio 40\, Alteburger Straße 40\, Köln\, NRW\, 50678\, Deutschland
CATEGORIES:Ausstellung
ATTACH;FMTTYPE=image/png:https://www.meinesuedstadt.de/termine/wp-content/uploads/2026/04/2026-05_UWCA_Event-Grafik_Social-Media_3_4.png
GEO:50.9198117;6.9621256
X-APPLE-STRUCTURED-LOCATION;VALUE=URI;X-ADDRESS=Studio 40 Alteburger Straße 40 Köln NRW 50678 Deutschland;X-APPLE-RADIUS=500;X-TITLE=Alteburger Straße 40:geo:6.9621256,50.9198117
END:VEVENT
BEGIN:VEVENT
DTSTART;TZID=Europe/Berlin:20260510T130000
DTEND;TZID=Europe/Berlin:20260510T190000
DTSTAMP:20260422T053609
CREATED:20260421T173748Z
LAST-MODIFIED:20260421T173748Z
UID:82695-1778418000-1778439600@www.meinesuedstadt.de
SUMMARY:Urban Wildcard Art
DESCRIPTION:Eine Gruppenausstellung kuratiert von Tom Weecks und Tomy Badurina! Die erste Blüte – Kunst\, Frühlingserwachen & Südstadtflair. 28 nationale und internationale Künstler:innen zeigen bei URBAN WILDCARD ART\, wie vielfältig Urban Art sein kann – überraschend\, mutig\, echt. Mal laut\, mal leise – ein kreatives Spielfeld zwischen Urban Street Art\, Pop Art\, Illustration und Urban Culture.\nWie Joker Karten im Spiel der Stadt mischen sie die Szene neu auf – laut\, wild\, verspielt\, kritisch und poetisch zugleich. Die Werke reichen von Originalen über Prints bis hin zu „Cheap Art“ – erschwingliche Kunstwerke für Urban-Art-Liebhaber:innen.\nAusstellungsdauer: 8.–10. Mai 2026\nÖffnungszeiten: FR 17-21.30 Uhr\, SA 13-20 Uhr\, SO 13-19 Uhr
URL:https://www.meinesuedstadt.de/termine/event/urban-wildcard-art/2026-05-10/
LOCATION:Studio 40\, Alteburger Straße 40\, Köln\, NRW\, 50678\, Deutschland
CATEGORIES:Ausstellung
ATTACH;FMTTYPE=image/png:https://www.meinesuedstadt.de/termine/wp-content/uploads/2026/04/2026-05_UWCA_Event-Grafik_Social-Media_3_4.png
GEO:50.9198117;6.9621256
X-APPLE-STRUCTURED-LOCATION;VALUE=URI;X-ADDRESS=Studio 40 Alteburger Straße 40 Köln NRW 50678 Deutschland;X-APPLE-RADIUS=500;X-TITLE=Alteburger Straße 40:geo:6.9621256,50.9198117
END:VEVENT
END:VCALENDAR