BEGIN:VCALENDAR
VERSION:2.0
PRODID:-//Meine Südstadt - ECPv6.15.17//NONSGML v1.0//EN
CALSCALE:GREGORIAN
METHOD:PUBLISH
X-ORIGINAL-URL:https://www.meinesuedstadt.de/termine
X-WR-CALDESC:Veranstaltungen für Meine Südstadt
REFRESH-INTERVAL;VALUE=DURATION:PT1H
X-Robots-Tag:noindex
X-PUBLISHED-TTL:PT1H
BEGIN:VTIMEZONE
TZID:Europe/Berlin
BEGIN:DAYLIGHT
TZOFFSETFROM:+0100
TZOFFSETTO:+0200
TZNAME:CEST
DTSTART:20250330T010000
END:DAYLIGHT
BEGIN:STANDARD
TZOFFSETFROM:+0200
TZOFFSETTO:+0100
TZNAME:CET
DTSTART:20251026T010000
END:STANDARD
BEGIN:DAYLIGHT
TZOFFSETFROM:+0100
TZOFFSETTO:+0200
TZNAME:CEST
DTSTART:20260329T010000
END:DAYLIGHT
BEGIN:STANDARD
TZOFFSETFROM:+0200
TZOFFSETTO:+0100
TZNAME:CET
DTSTART:20261025T010000
END:STANDARD
BEGIN:DAYLIGHT
TZOFFSETFROM:+0100
TZOFFSETTO:+0200
TZNAME:CEST
DTSTART:20270328T010000
END:DAYLIGHT
BEGIN:STANDARD
TZOFFSETFROM:+0200
TZOFFSETTO:+0100
TZNAME:CET
DTSTART:20271031T010000
END:STANDARD
END:VTIMEZONE
BEGIN:VEVENT
DTSTART;TZID=Europe/Berlin:20260116T090000
DTEND;TZID=Europe/Berlin:20260116T110000
DTSTAMP:20260420T123339
CREATED:20260112T191406Z
LAST-MODIFIED:20260112T191406Z
UID:80209-1768554000-1768561200@www.meinesuedstadt.de
SUMMARY:Die Jeister vun Kölle im Vringstreff
DESCRIPTION:Figuren von alten Karnevalsplakaten\, von Kölner Brunnen und Denkmälern tauchen auf diesen Bildern als mahnende Geister in der Stadt oder auf Wänden wieder auf\, so als wollten sie sagen: „Vergesst uns und den Sinn des Festes nicht.“ Die Figuren tragen einen Geist in sich\, der die besinnliche Seite des Karnevals klingen lässt. Sie erinnern an das Zarte\, das Verhuschte\, an das Vergängliche ebenso wie an das Ewige\, an das Stille\, das Geheimnisvoll-Sehnsüchtige und auch an das Spukige. An die Seite des Karnevals eben\, die heute immer schwerer zu finden ist. Wollte man es noch pathetischer ausdrücken\, so könnte man auch sagen: an seine Seele.\nAusstellungsdauer: 15.1.-26.2. zu sehen – auch beim Dreigestirn-Besuch!\nÖffnungszeiten: MO\, MI & DO: 10-17 Uhr\, DI 10-14 Uhr\, FR 9-11 Uhr\nBild & Text zur Ausstellung: Eckhardt Autschbach
URL:https://www.meinesuedstadt.de/termine/event/die-jeister-vun-koelle-im-vringstreff/2026-01-16/
LOCATION:Vringstreff e.V.\, Im Ferkulum 42\, Köln\, 50678\, Deutschland
CATEGORIES:Ausstellung
ATTACH;FMTTYPE=image/jpeg:https://www.meinesuedstadt.de/termine/wp-content/uploads/2026/01/611594328_1214087670900521_2090147469817301343_n.jpg
GEO:50.923546;6.9608715
X-APPLE-STRUCTURED-LOCATION;VALUE=URI;X-ADDRESS=Vringstreff e.V. Im Ferkulum 42 Köln 50678 Deutschland;X-APPLE-RADIUS=500;X-TITLE=Im Ferkulum 42:geo:6.9608715,50.923546
END:VEVENT
BEGIN:VEVENT
DTSTART;TZID=Europe/Berlin:20260115T190000
DTEND;TZID=Europe/Berlin:20260115T190000
DTSTAMP:20260420T123339
CREATED:20260112T191406Z
LAST-MODIFIED:20260112T191406Z
UID:80208-1768503600-1768503600@www.meinesuedstadt.de
SUMMARY:Die Jeister vun Kölle im Vringstreff
DESCRIPTION:Figuren von alten Karnevalsplakaten\, von Kölner Brunnen und Denkmälern tauchen auf diesen Bildern als mahnende Geister in der Stadt oder auf Wänden wieder auf\, so als wollten sie sagen: „Vergesst uns und den Sinn des Festes nicht.“ Die Figuren tragen einen Geist in sich\, der die besinnliche Seite des Karnevals klingen lässt. Sie erinnern an das Zarte\, das Verhuschte\, an das Vergängliche ebenso wie an das Ewige\, an das Stille\, das Geheimnisvoll-Sehnsüchtige und auch an das Spukige. An die Seite des Karnevals eben\, die heute immer schwerer zu finden ist. Wollte man es noch pathetischer ausdrücken\, so könnte man auch sagen: an seine Seele.\nAusstellungsdauer: 15.1.-26.2. zu sehen – auch beim Dreigestirn-Besuch!\nÖffnungszeiten: MO\, MI & DO: 10-17 Uhr\, DI 10-14 Uhr\, FR 9-11 Uhr\nBild & Text zur Ausstellung: Eckhardt Autschbach
URL:https://www.meinesuedstadt.de/termine/event/die-jeister-vun-koelle-im-vringstreff/2026-01-15/
LOCATION:Vringstreff e.V.\, Im Ferkulum 42\, Köln\, 50678\, Deutschland
CATEGORIES:Ausstellung
ATTACH;FMTTYPE=image/jpeg:https://www.meinesuedstadt.de/termine/wp-content/uploads/2026/01/611594328_1214087670900521_2090147469817301343_n.jpg
GEO:50.923546;6.9608715
X-APPLE-STRUCTURED-LOCATION;VALUE=URI;X-ADDRESS=Vringstreff e.V. Im Ferkulum 42 Köln 50678 Deutschland;X-APPLE-RADIUS=500;X-TITLE=Im Ferkulum 42:geo:6.9608715,50.923546
END:VEVENT
END:VCALENDAR